BEGIN:VCALENDAR
VERSION:2.0
PRODID:-//NEW Women&#039;s Business Center - ECPv6.15.17//NONSGML v1.0//EN
CALSCALE:GREGORIAN
METHOD:PUBLISH
X-ORIGINAL-URL:https://www.new-wbc.org/?lang=es
X-WR-CALDESC:Eventos para NEW Women&#039;s Business Center
REFRESH-INTERVAL;VALUE=DURATION:PT1H
X-Robots-Tag:noindex
X-PUBLISHED-TTL:PT1H
BEGIN:VTIMEZONE
TZID:America/Los_Angeles
BEGIN:DAYLIGHT
TZOFFSETFROM:-0800
TZOFFSETTO:-0700
TZNAME:PDT
DTSTART:20230312T100000
END:DAYLIGHT
BEGIN:STANDARD
TZOFFSETFROM:-0700
TZOFFSETTO:-0800
TZNAME:PST
DTSTART:20231105T090000
END:STANDARD
BEGIN:DAYLIGHT
TZOFFSETFROM:-0800
TZOFFSETTO:-0700
TZNAME:PDT
DTSTART:20240310T100000
END:DAYLIGHT
BEGIN:STANDARD
TZOFFSETFROM:-0700
TZOFFSETTO:-0800
TZNAME:PST
DTSTART:20241103T090000
END:STANDARD
BEGIN:DAYLIGHT
TZOFFSETFROM:-0800
TZOFFSETTO:-0700
TZNAME:PDT
DTSTART:20250309T100000
END:DAYLIGHT
BEGIN:STANDARD
TZOFFSETFROM:-0700
TZOFFSETTO:-0800
TZNAME:PST
DTSTART:20251102T090000
END:STANDARD
END:VTIMEZONE
BEGIN:VEVENT
DTSTART;TZID=America/Los_Angeles:20240422T150000
DTEND;TZID=America/Los_Angeles:20240422T170000
DTSTAMP:20260421T021357
CREATED:20240228T003227Z
LAST-MODIFIED:20240228T003227Z
UID:28865-1713798000-1713805200@www.new-wbc.org
SUMMARY:Sources of Revenue
DESCRIPTION:A great way to understand the different sources of revenue is to look at the whole list and find which ones make sense for the type of business you have. We will go over several types for you to select which ones are perfect for you.
URL:https://www.new-wbc.org/event/sources-of-revenue-19-2-2-3/?lang=es
LOCATION:Webinar
CATEGORIES:General Business Courses
END:VEVENT
BEGIN:VEVENT
DTSTART;TZID=America/Los_Angeles:20240424T110000
DTEND;TZID=America/Los_Angeles:20240424T130000
DTSTAMP:20260421T021357
CREATED:20240228T221542Z
LAST-MODIFIED:20240228T221542Z
UID:28881-1713956400-1713963600@www.new-wbc.org
SUMMARY:Principles for Mastering the Mentor Relationship
DESCRIPTION:Principles for Mastering the Mentor Relationship
URL:https://www.new-wbc.org/event/licenses-and-permits-answering-questions-about-your-dba-ein-business-licenses-and-selling-permits-3-2-2-2-2-2-2-2-2-2-2-2/?lang=es
LOCATION:Webinar
CATEGORIES:General Business Courses
ATTACH;FMTTYPE=image/png:https://www.new-wbc.org/wp-content/uploads/2024/02/Screenshot-2024-02-28-140945.png
END:VEVENT
BEGIN:VEVENT
DTSTART;TZID=America/Los_Angeles:20240430T110000
DTEND;TZID=America/Los_Angeles:20240430T120000
DTSTAMP:20260421T021357
CREATED:20240221T220346Z
LAST-MODIFIED:20240221T220346Z
UID:28827-1714474800-1714478400@www.new-wbc.org
SUMMARY:Licenses and Permits - Answering Questions about your DBA\, EIN\, Business Licenses and Selling Permits.
DESCRIPTION:We answer all your questions to register your business. Join us for a conversation on what is best for the type of business you want to start or to bring current your operations.
URL:https://www.new-wbc.org/event/licenses-and-permits-answering-questions-about-your-dba-ein-business-licenses-and-selling-permits-3-2-2-2-2-2-2-2-2-2-2/?lang=es
LOCATION:Webinar
CATEGORIES:General Business Courses
END:VEVENT
BEGIN:VEVENT
DTSTART;TZID=America/Los_Angeles:20240430T120000
DTEND;TZID=America/Los_Angeles:20240430T140000
DTSTAMP:20260421T021357
CREATED:20240227T195218Z
LAST-MODIFIED:20240429T175451Z
UID:28855-1714478400-1714485600@www.new-wbc.org
SUMMARY:Licenses and Permits - DBA vs LLC
DESCRIPTION:This class will help you learn about business structures and the required licenses and permits your business may need. You will also learn how to complete applications for various licenses and other legal documents
URL:https://www.new-wbc.org/event/licenses-and-permits-dba-vs-llc-10-2-2-2-3/?lang=es
LOCATION:Webinar
CATEGORIES:General Business Courses
ATTACH;FMTTYPE=image/png:https://www.new-wbc.org/wp-content/uploads/2023/08/image_D597432E-3171-4E37-BFE6-6EF4500E7678.png
END:VEVENT
END:VCALENDAR