BEGIN:VCALENDAR
VERSION:2.0
PRODID:-//NEW Women&#039;s Business Center - ECPv6.15.17//NONSGML v1.0//EN
CALSCALE:GREGORIAN
METHOD:PUBLISH
X-ORIGINAL-URL:https://www.new-wbc.org/?lang=es
X-WR-CALDESC:Eventos para NEW Women&#039;s Business Center
REFRESH-INTERVAL;VALUE=DURATION:PT1H
X-Robots-Tag:noindex
X-PUBLISHED-TTL:PT1H
BEGIN:VTIMEZONE
TZID:America/Los_Angeles
BEGIN:DAYLIGHT
TZOFFSETFROM:-0800
TZOFFSETTO:-0700
TZNAME:PDT
DTSTART:20230312T100000
END:DAYLIGHT
BEGIN:STANDARD
TZOFFSETFROM:-0700
TZOFFSETTO:-0800
TZNAME:PST
DTSTART:20231105T090000
END:STANDARD
BEGIN:DAYLIGHT
TZOFFSETFROM:-0800
TZOFFSETTO:-0700
TZNAME:PDT
DTSTART:20240310T100000
END:DAYLIGHT
BEGIN:STANDARD
TZOFFSETFROM:-0700
TZOFFSETTO:-0800
TZNAME:PST
DTSTART:20241103T090000
END:STANDARD
BEGIN:DAYLIGHT
TZOFFSETFROM:-0800
TZOFFSETTO:-0700
TZNAME:PDT
DTSTART:20250309T100000
END:DAYLIGHT
BEGIN:STANDARD
TZOFFSETFROM:-0700
TZOFFSETTO:-0800
TZNAME:PST
DTSTART:20251102T090000
END:STANDARD
END:VTIMEZONE
BEGIN:VEVENT
DTSTART;TZID=America/Los_Angeles:20240502T150000
DTEND;TZID=America/Los_Angeles:20240502T170000
DTSTAMP:20260421T003825
CREATED:20240410T223430Z
LAST-MODIFIED:20240410T223430Z
UID:29193-1714662000-1714669200@www.new-wbc.org
SUMMARY:Work on Your Network and Make It Work for You
DESCRIPTION:Many businesses relationships come from network introductions. We will work on a plan on how to create the connections and develop the relationships needed to grow you network. By expanding your reach your business will grow. Join us and make it work for you.
URL:https://www.new-wbc.org/event/work-on-your-network-and-make-it-work-for-you-13-2-2-2-2-2/?lang=es
LOCATION:Webinar
CATEGORIES:General Business Courses
END:VEVENT
BEGIN:VEVENT
DTSTART;TZID=America/Los_Angeles:20240506T160000
DTEND;TZID=America/Los_Angeles:20240506T180000
DTSTAMP:20260421T003825
CREATED:20240410T232403Z
LAST-MODIFIED:20240410T232403Z
UID:29197-1715011200-1715018400@www.new-wbc.org
SUMMARY:Register to Protect -Trademarks\, Copyrights\, & Patents
DESCRIPTION:Learning about intellectual property is essential for small businesses to protect their ideas. Inventors you need a patent and/or a trademark. Join us and learn the steps to protect your business.
URL:https://www.new-wbc.org/event/register-to-protect-trademarks-copyrights-patents-17-2-2/?lang=es
LOCATION:Webinar
CATEGORIES:General Business Courses
END:VEVENT
BEGIN:VEVENT
DTSTART;TZID=America/Los_Angeles:20240507T110000
DTEND;TZID=America/Los_Angeles:20240507T120000
DTSTAMP:20260421T003825
CREATED:20240410T174658Z
LAST-MODIFIED:20240410T174658Z
UID:29174-1715079600-1715083200@www.new-wbc.org
SUMMARY:Corporation vs LLC
DESCRIPTION:The ownership structure that’s right for your business depends on how many people will own the business\, how the business will be run\, what types of services and products you will provide and certain tax considerations.
URL:https://www.new-wbc.org/event/corporation-vs-llc-14-2-2-2/?lang=es
LOCATION:Webinar
CATEGORIES:General Business Courses
END:VEVENT
BEGIN:VEVENT
DTSTART;TZID=America/Los_Angeles:20240508T150000
DTEND;TZID=America/Los_Angeles:20240508T170000
DTSTAMP:20260421T003825
CREATED:20240410T213502Z
LAST-MODIFIED:20240410T213502Z
UID:29189-1715180400-1715187600@www.new-wbc.org
SUMMARY:Excel for Small Business
DESCRIPTION:Be more productive\, connect employees to the people\, information\, and content they need to improve productivity and transform collaboration. Don’t drown in paperwork Transform the way you manage your business and simplify the way work gets done with modern tools that streamline business processes.
URL:https://www.new-wbc.org/event/excel-for-small-business-20-2-2-2-2-2/?lang=es
LOCATION:Webinar
CATEGORIES:General Business Courses
END:VEVENT
BEGIN:VEVENT
DTSTART;TZID=America/Los_Angeles:20240510T140000
DTEND;TZID=America/Los_Angeles:20240510T160000
DTSTAMP:20260421T003825
CREATED:20240412T174757Z
LAST-MODIFIED:20240412T174757Z
UID:29239-1715349600-1715356800@www.new-wbc.org
SUMMARY:VERIZON Small Business Digital Ready Program (2023 Grant Opportunity)
DESCRIPTION:We know how difficult it can be to level up your business when you’re short on resources and tools. That’s why the LISC + NEW-WBC partnered with Verizon to launch Verizon Small Business Digital Ready. It is designed to make small business learning free and accessible to all. From courses and live coaching sessions to personalized learning plans\, it’s a free and easy way to bump up your skills and knowledge. \nTo further support active users of Verizon Small Business Digital Ready\, we’re deploying $1M in grant funding to small businesses over the course of 2023. \nPlease Register for this webinar for more information.
URL:https://www.new-wbc.org/event/verizon-small-business-digital-ready-program-2023-grant-opportunity-5-2-2/?lang=es
LOCATION:Webinar
CATEGORIES:General Business Courses
ATTACH;FMTTYPE=image/png:https://www.new-wbc.org/wp-content/uploads/2023/07/image_58A7E997-7B04-4C60-9D51-EE32AED1026C.png
END:VEVENT
BEGIN:VEVENT
DTSTART;TZID=America/Los_Angeles:20240513T160000
DTEND;TZID=America/Los_Angeles:20240513T180000
DTSTAMP:20260421T003825
CREATED:20240410T234011Z
LAST-MODIFIED:20240410T234011Z
UID:29199-1715616000-1715623200@www.new-wbc.org
SUMMARY:Clarify your Business Idea
DESCRIPTION:The business mission has to do with the motivation and drive that built the business idea and the foundation of the company. Join us and let’s walk together your business idea.
URL:https://www.new-wbc.org/event/clarify-your-business-idea-10-2-2-2/?lang=es
LOCATION:Webinar
CATEGORIES:General Business Courses
END:VEVENT
BEGIN:VEVENT
DTSTART;TZID=America/Los_Angeles:20240514T110000
DTEND;TZID=America/Los_Angeles:20240514T130000
DTSTAMP:20260421T003825
CREATED:20240412T170906Z
LAST-MODIFIED:20240412T170906Z
UID:29235-1715684400-1715691600@www.new-wbc.org
SUMMARY:Personal Branding: Leveraging Your Narrative for Business Success
DESCRIPTION:Good storytelling is foundational to personal branding. In this webinar\, you’ll learn how to tell the story of who you are and what you stand for. Ideal for creative artists\, serial entrepreneurs\, and established business owners!
URL:https://www.new-wbc.org/event/personal-branding-leveraging-your-narrative-for-business-success-2-2/?lang=es
LOCATION:Webinar
CATEGORIES:General Business Courses
ATTACH;FMTTYPE=image/png:https://www.new-wbc.org/wp-content/uploads/2023/12/Personal-Branding-Leveraging-Your-Narrative-for-Business-Success.png
END:VEVENT
BEGIN:VEVENT
DTSTART;TZID=America/Los_Angeles:20240514T160000
DTEND;TZID=America/Los_Angeles:20240514T180000
DTSTAMP:20260421T003825
CREATED:20240410T220430Z
LAST-MODIFIED:20240507T204422Z
UID:29191-1715702400-1715709600@www.new-wbc.org
SUMMARY:Get Your Marketing Message Out to the Right Clients
DESCRIPTION:We will go over the “Marketing Fan” which shows a list of 6 broad categories of marketing that you can be inspired by when selecting your marketing mix. Often it makes sense to use multiple media in your marketing plan instead of just one channel. There are many different marketing methods to choose from\, and a way to select the right ones is to figure out what is the purpose of the marketing.
URL:https://www.new-wbc.org/event/get-your-marketing-message-out-to-the-right-clients-22-2-2-2-2-2/?lang=es
LOCATION:Webinar
CATEGORIES:General Business Courses
END:VEVENT
BEGIN:VEVENT
DTSTART;TZID=America/Los_Angeles:20240515T110000
DTEND;TZID=America/Los_Angeles:20240515T120000
DTSTAMP:20260421T003825
CREATED:20240410T171413Z
LAST-MODIFIED:20240513T224530Z
UID:29166-1715770800-1715774400@www.new-wbc.org
SUMMARY:Licenses and Permits - Answering Questions about your DBA\, EIN\, Business Licenses and Selling Permits.
DESCRIPTION:We answer all your questions to register your business. Join us for a conversation on what is best for the type of business you want to start or to bring current your operations.
URL:https://www.new-wbc.org/event/licenses-and-permits-answering-questions-about-your-dba-ein-business-licenses-and-selling-permits-3-2-2-2-2-2-2-2-2-2-2-3/?lang=es
LOCATION:Webinar
CATEGORIES:General Business Courses
END:VEVENT
BEGIN:VEVENT
DTSTART;TZID=America/Los_Angeles:20240515T150000
DTEND;TZID=America/Los_Angeles:20240515T170000
DTSTAMP:20260421T003825
CREATED:20240410T194034Z
LAST-MODIFIED:20240410T194034Z
UID:29181-1715785200-1715792400@www.new-wbc.org
SUMMARY:Perfect Pitch Deck for Government Contracts
DESCRIPTION:Discover the power of a well-crafted pitch deck tailored specifically for government contracting. Learn to showcase capability statistics\, present a compelling resume for government contracts\, and highlight strategic assets designed to resonate with the unique variation and priorities of the public sector.
URL:https://www.new-wbc.org/event/women-own-small-business-certification-35-2-2-2-2/?lang=es
LOCATION:Webinar
CATEGORIES:General Business Courses
ATTACH;FMTTYPE=image/png:https://www.new-wbc.org/wp-content/uploads/2024/04/Screenshot-11.png
END:VEVENT
BEGIN:VEVENT
DTSTART;TZID=America/Los_Angeles:20240516T150000
DTEND;TZID=America/Los_Angeles:20240516T170000
DTSTAMP:20260421T003825
CREATED:20240507T203311Z
LAST-MODIFIED:20240507T203311Z
UID:29423-1715871600-1715878800@www.new-wbc.org
SUMMARY:Create a Strong and Authentic Brand for your Business
DESCRIPTION:Define and build up your company brand. Let’s focus on improving customer loyalty by defining your brand and creating authenticity to it by identifying brand role models and deciding which certifications to get\, all the while protecting your trademark.
URL:https://www.new-wbc.org/event/create-a-strong-and-authentic-brand-for-your-business/?lang=es
LOCATION:Webinar
CATEGORIES:General Business Courses
ATTACH;FMTTYPE=image/png:https://www.new-wbc.org/wp-content/uploads/2024/05/image_27785FC6-1131-47D1-BFED-65BDA4A4E35A.png
END:VEVENT
BEGIN:VEVENT
DTSTART;TZID=America/Los_Angeles:20240520T110000
DTEND;TZID=America/Los_Angeles:20240520T130000
DTSTAMP:20260421T003825
CREATED:20240410T225023Z
LAST-MODIFIED:20240410T225023Z
UID:29195-1716202800-1716210000@www.new-wbc.org
SUMMARY:Getting a 360º Perspective on Your Business
DESCRIPTION:The “Four Challenges” are the corner stones of building and growing a business. Every business has a challenge in creating an attractive business concept\, in establishing a strong organization\, in building lasting customer relations\, and in maintaining profitable operations. Within which of the four areas do you think you have the biggest challenges at the moment?
URL:https://www.new-wbc.org/event/getting-a-360o-perspective-on-your-business-15-2-2/?lang=es
LOCATION:Webinar
CATEGORIES:General Business Courses
END:VEVENT
BEGIN:VEVENT
DTSTART;TZID=America/Los_Angeles:20240521T110000
DTEND;TZID=America/Los_Angeles:20240521T130000
DTSTAMP:20260421T003825
CREATED:20240410T200146Z
LAST-MODIFIED:20240410T200146Z
UID:29185-1716289200-1716296400@www.new-wbc.org
SUMMARY:Choose a Business Structure - Licenses and Permit
DESCRIPTION:The business structure you choose influences everything from day-to-day operations\, to taxes\, to how much of your personal assets are at risk. You should choose a business structure that gives you the right balance of legal protections and benefits.
URL:https://www.new-wbc.org/event/choose-a-business-structure-licenses-and-permit-13-2-2-2-2/?lang=es
LOCATION:Webinar
CATEGORIES:General Business Courses
ATTACH;FMTTYPE=image/png:https://www.new-wbc.org/wp-content/uploads/2023/09/image_A216600A-65C1-47B2-91B8-9B8060427DDE.png
END:VEVENT
BEGIN:VEVENT
DTSTART;TZID=America/Los_Angeles:20240522T110000
DTEND;TZID=America/Los_Angeles:20240522T130000
DTSTAMP:20260421T003825
CREATED:20240412T172442Z
LAST-MODIFIED:20240412T172442Z
UID:29237-1716375600-1716382800@www.new-wbc.org
SUMMARY:The Secrets to Writing Great Web Copy: Business Strategies & Techniques
DESCRIPTION:Great web copy leaps from the page and entices customers purchase more. Is this webinar\, you’ll learn how to write web copy that sells!
URL:https://www.new-wbc.org/event/the-secrets-to-writing-great-web-copy-business-strategies-techniques-2-2-3/?lang=es
LOCATION:Webinar
CATEGORIES:General Business Courses
ATTACH;FMTTYPE=image/png:https://www.new-wbc.org/wp-content/uploads/2023/12/The-Secrets-to-Writing-Great-Web-Copy-Business-Strategies-Techniques.png
END:VEVENT
BEGIN:VEVENT
DTSTART;TZID=America/Los_Angeles:20240522T150000
DTEND;TZID=America/Los_Angeles:20240522T170000
DTSTAMP:20260421T003825
CREATED:20240410T212235Z
LAST-MODIFIED:20240410T212235Z
UID:29187-1716390000-1716397200@www.new-wbc.org
SUMMARY:Accounting Software for Small Business. QUICKBOOKS!"
DESCRIPTION:This class will help you learn about business structures and the required licenses and permits your business may need. You will also learn how to complete applications for various licenses and other legal documents
URL:https://www.new-wbc.org/event/licenses-and-permits-dba-vs-llc-10-2-2-2-2-2-2/?lang=es
LOCATION:Webinar
CATEGORIES:General Business Courses
ATTACH;FMTTYPE=image/png:https://www.new-wbc.org/wp-content/uploads/2024/02/Screenshot-2024-02-16-140621.png
END:VEVENT
BEGIN:VEVENT
DTSTART;TZID=America/Los_Angeles:20240527T160000
DTEND;TZID=America/Los_Angeles:20240527T180000
DTSTAMP:20260421T003825
CREATED:20240412T165003Z
LAST-MODIFIED:20240412T165003Z
UID:29233-1716825600-1716832800@www.new-wbc.org
SUMMARY:Get on Top of the Legal Requirements to Your Business
DESCRIPTION:Defining legal requirements for small business. We will focus Area on defining required legal documents\, selecting a legal structure for the company\, renegotiating contracts\, and ensuring corporate compliance with laws and regulations\, as well as the company’s intellectual property.
URL:https://www.new-wbc.org/event/get-on-top-of-the-legal-requirements-to-your-business-15-2-2-2-2/?lang=es
LOCATION:Webinar
CATEGORIES:General Business Courses
ATTACH;FMTTYPE=image/png:https://www.new-wbc.org/wp-content/uploads/2023/08/Screenshot-376.png
END:VEVENT
BEGIN:VEVENT
DTSTART;TZID=America/Los_Angeles:20240528T110000
DTEND;TZID=America/Los_Angeles:20240528T120000
DTSTAMP:20260421T003825
CREATED:20240410T172719Z
LAST-MODIFIED:20240410T172719Z
UID:29171-1716894000-1716897600@www.new-wbc.org
SUMMARY:Licenses and Permits - Answering Questions about your DBA\, EIN\, Business Licenses and Selling Permits.
DESCRIPTION:We answer all your questions to register your business. Join us for a conversation on what is best for the type of business you want to start or to bring current your operations.
URL:https://www.new-wbc.org/event/licenses-and-permits-answering-questions-about-your-dba-ein-business-licenses-and-selling-permits-3-2-2-2-2-2-2-2-2-2-2-3-2/?lang=es
LOCATION:Webinar
CATEGORIES:General Business Courses
END:VEVENT
END:VCALENDAR