BEGIN:VCALENDAR
VERSION:2.0
PRODID:-//NEW Women&#039;s Business Center - ECPv6.15.17//NONSGML v1.0//EN
CALSCALE:GREGORIAN
METHOD:PUBLISH
X-WR-CALNAME:NEW Women&#039;s Business Center
X-ORIGINAL-URL:https://www.new-wbc.org/?lang=es
X-WR-CALDESC:Eventos para NEW Women&#039;s Business Center
REFRESH-INTERVAL;VALUE=DURATION:PT1H
X-Robots-Tag:noindex
X-PUBLISHED-TTL:PT1H
BEGIN:VTIMEZONE
TZID:America/Los_Angeles
BEGIN:DAYLIGHT
TZOFFSETFROM:-0800
TZOFFSETTO:-0700
TZNAME:PDT
DTSTART:20230312T100000
END:DAYLIGHT
BEGIN:STANDARD
TZOFFSETFROM:-0700
TZOFFSETTO:-0800
TZNAME:PST
DTSTART:20231105T090000
END:STANDARD
BEGIN:DAYLIGHT
TZOFFSETFROM:-0800
TZOFFSETTO:-0700
TZNAME:PDT
DTSTART:20240310T100000
END:DAYLIGHT
BEGIN:STANDARD
TZOFFSETFROM:-0700
TZOFFSETTO:-0800
TZNAME:PST
DTSTART:20241103T090000
END:STANDARD
BEGIN:DAYLIGHT
TZOFFSETFROM:-0800
TZOFFSETTO:-0700
TZNAME:PDT
DTSTART:20250309T100000
END:DAYLIGHT
BEGIN:STANDARD
TZOFFSETFROM:-0700
TZOFFSETTO:-0800
TZNAME:PST
DTSTART:20251102T090000
END:STANDARD
END:VTIMEZONE
BEGIN:VEVENT
DTSTART;TZID=America/Los_Angeles:20240902T170000
DTEND;TZID=America/Los_Angeles:20240902T190000
DTSTAMP:20260420T173152
CREATED:20250826T212538Z
LAST-MODIFIED:20250826T212538Z
UID:35233-1725296400-1725303600@www.new-wbc.org
SUMMARY:Are you registered in sam.gov?
DESCRIPTION:You’re registered and need assistance on how to navigate sam.gov for opportunities?\nIt’s a lot and overwhelming!  Identify your catalog / your market that you’re after\, at least three.\nThen\, look for opportunities where you can sell either services or products/goods.
URL:https://www.new-wbc.org/event/are-you-registered-in-sam-gov-2/?lang=es
LOCATION:Webinar
CATEGORIES:General Business Courses
ATTACH;FMTTYPE=image/png:https://www.new-wbc.org/wp-content/uploads/2024/07/images-2.png
END:VEVENT
BEGIN:VEVENT
DTSTART;TZID=America/Los_Angeles:20240903T160000
DTEND;TZID=America/Los_Angeles:20240903T180000
DTSTAMP:20260420T173152
CREATED:20240826T161256Z
LAST-MODIFIED:20240826T161257Z
UID:30401-1725379200-1725386400@www.new-wbc.org
SUMMARY:Create a Strong and Authentic Brand for your Business
DESCRIPTION:Define and build up your company brand. Let’s focus on improving customer loyalty by defining your brand and creating authenticity to it by identifying brand role models and deciding which certifications to get\, all the while protecting your trademark.
URL:https://www.new-wbc.org/event/create-a-strong-and-authentic-brand-for-your-business-3/?lang=es
LOCATION:Webinar
CATEGORIES:General Business Courses
ATTACH;FMTTYPE=image/png:https://www.new-wbc.org/wp-content/uploads/2024/08/Create-a-Strong-and-Authentic-Brand-for-your-Business.png
END:VEVENT
BEGIN:VEVENT
DTSTART;TZID=America/Los_Angeles:20240904T100000
DTEND;TZID=America/Los_Angeles:20240904T120000
DTSTAMP:20260420T173152
CREATED:20240816T182815Z
LAST-MODIFIED:20240816T221726Z
UID:30249-1725444000-1725451200@www.new-wbc.org
SUMMARY:Women Own Small Business Certification
DESCRIPTION:The WOSB is a program coordinated by the Small Business Administration (SBA) with the goal of giving women-owned businesses more easier access to the resource they need to grow their business. The Economically Disadvantaged Woman-Owned Small Business (EDWOSB) certification is a subset of the WOSB program. These certifications offer the chance to compete fairly for federal contracts and gain access to resources tailored to promoting women in business.
URL:https://www.new-wbc.org/event/women-own-small-business-certification-35-2-2-2-3-2-2/?lang=es
LOCATION:Webinar
CATEGORIES:General Business Courses
ATTACH;FMTTYPE=image/png:https://www.new-wbc.org/wp-content/uploads/2023/10/Women-Own-Small-Business-Certification.png
END:VEVENT
BEGIN:VEVENT
DTSTART;TZID=America/Los_Angeles:20240909T110000
DTEND;TZID=America/Los_Angeles:20240909T130000
DTSTAMP:20260420T173152
CREATED:20240816T001324Z
LAST-MODIFIED:20240816T001512Z
UID:30238-1725879600-1725886800@www.new-wbc.org
SUMMARY:Corporation vs LLC
DESCRIPTION:The ownership structure that’s right for your business depends on how many people will own the business\, how the business will be run\, what types of services and products you will provide and certain tax considerations.
URL:https://www.new-wbc.org/event/corporation-vs-llc-14-2-2-2-2-2/?lang=es
LOCATION:Webinar
CATEGORIES:General Business Courses
END:VEVENT
BEGIN:VEVENT
DTSTART;TZID=America/Los_Angeles:20240909T160000
DTEND;TZID=America/Los_Angeles:20240909T180000
DTSTAMP:20260420T173152
CREATED:20240820T212627Z
LAST-MODIFIED:20240820T212627Z
UID:30331-1725897600-1725904800@www.new-wbc.org
SUMMARY:Ensure a Strong Management of your Company
DESCRIPTION:Do you have a owner distribution plan? Who makes the decisions? The shares of the company is a way to determine the value of the company. Let’s work it\, join the webinar to learn more about this topic.
URL:https://www.new-wbc.org/event/ensure-a-strong-management-of-your-company-11-2-2-2/?lang=es
LOCATION:Webinar
CATEGORIES:General Business Courses
END:VEVENT
BEGIN:VEVENT
DTSTART;TZID=America/Los_Angeles:20240910T110000
DTEND;TZID=America/Los_Angeles:20240910T120000
DTSTAMP:20260420T173152
CREATED:20240815T182755Z
LAST-MODIFIED:20240815T182755Z
UID:30226-1725966000-1725969600@www.new-wbc.org
SUMMARY:Licenses and Permits - DBA vs LLC
DESCRIPTION:This class will help you learn about business structures and the required licenses and permits your business may need. You will also learn how to complete applications for various licenses and other legal documents
URL:https://www.new-wbc.org/event/licenses-and-permits-dba-vs-llc-10-2-2-2-3-2-2/?lang=es
LOCATION:Webinar
CATEGORIES:General Business Courses
ATTACH;FMTTYPE=image/png:https://www.new-wbc.org/wp-content/uploads/2023/08/image_D597432E-3171-4E37-BFE6-6EF4500E7678.png
END:VEVENT
BEGIN:VEVENT
DTSTART;TZID=America/Los_Angeles:20240910T160000
DTEND;TZID=America/Los_Angeles:20240910T180000
DTSTAMP:20260420T173152
CREATED:20240820T172602Z
LAST-MODIFIED:20240820T172602Z
UID:30309-1725984000-1725991200@www.new-wbc.org
SUMMARY:Work on Your Network and Make It Work for You
DESCRIPTION:Many businesses relationships come from network introductions. We will work on a plan on how to create the connections and develop the relationships needed to grow you network. By expanding your reach your business will grow. Join us and make it work for you.
URL:https://www.new-wbc.org/event/work-on-your-network-and-make-it-work-for-you-13-2-2-2-2-2-2-2/?lang=es
LOCATION:Webinar
CATEGORIES:General Business Courses
END:VEVENT
BEGIN:VEVENT
DTSTART;TZID=America/Los_Angeles:20240911T133000
DTEND;TZID=America/Los_Angeles:20240911T143000
DTSTAMP:20260420T173152
CREATED:20240816T185638Z
LAST-MODIFIED:20240816T185638Z
UID:30251-1726061400-1726065000@www.new-wbc.org
SUMMARY:Government Procurement
DESCRIPTION:What exactly is procurement? Procurement is the process of purchasing goods or services. Procurement expenses can fall into several different categories\, depending on the procurement demand. Competitive bidding is usually a part of most large-scale procurement processes involving multiple bidders. In this webinar\, we will be talking about procurement needs from the government. You want to sell to the government this is your first step. Join us for a free class.
URL:https://www.new-wbc.org/event/government-procurement-4-2-2-2-2-2-2/?lang=es
LOCATION:Webinar
CATEGORIES:General Business Courses
ATTACH;FMTTYPE=image/png:https://www.new-wbc.org/wp-content/uploads/2023/12/Government-Procurement.png
END:VEVENT
BEGIN:VEVENT
DTSTART;TZID=America/Los_Angeles:20240911T133000
DTEND;TZID=America/Los_Angeles:20240911T153000
DTSTAMP:20260420T173152
CREATED:20240816T214350Z
LAST-MODIFIED:20240816T214350Z
UID:30255-1726061400-1726068600@www.new-wbc.org
SUMMARY:Government Procurement
DESCRIPTION:What exactly is procurement? Procurement is the process of purchasing goods or services. Procurement expenses can fall into several different categories\, depending on the procurement demand. Competitive bidding is usually a part of most large-scale procurement processes involving multiple bidders. In this webinar\, we will be talking about procurement needs from the government. You want to sell to the government this is your first step. Join us for a free class.
URL:https://www.new-wbc.org/event/government-procurement-4-2-2-2-2-2-2-2/?lang=es
LOCATION:Webinar
CATEGORIES:General Business Courses
ATTACH;FMTTYPE=image/png:https://www.new-wbc.org/wp-content/uploads/2023/12/Government-Procurement.png
END:VEVENT
BEGIN:VEVENT
DTSTART;TZID=America/Los_Angeles:20240912T160000
DTEND;TZID=America/Los_Angeles:20240912T180000
DTSTAMP:20260420T173152
CREATED:20240820T192514Z
LAST-MODIFIED:20240820T192514Z
UID:30327-1726156800-1726164000@www.new-wbc.org
SUMMARY:Clarify your Business Idea
DESCRIPTION:The business mission has to do with the motivation and drive that built the business idea and the foundation of the company. Join us and let’s walk together your business idea.
URL:https://www.new-wbc.org/event/clarify-your-business-idea-10-2-2-2-2-2/?lang=es
LOCATION:Webinar
CATEGORIES:General Business Courses
END:VEVENT
BEGIN:VEVENT
DTSTART;TZID=America/Los_Angeles:20240916T160000
DTEND;TZID=America/Los_Angeles:20240916T180000
DTSTAMP:20260420T173152
CREATED:20240820T190708Z
LAST-MODIFIED:20240820T190708Z
UID:30321-1726502400-1726509600@www.new-wbc.org
SUMMARY:Get In Control of Your Sales Process
DESCRIPTION:Take control of the sales process. This class is about strengthening the sales cycle\, planning sales activities\, working on the customer pipeline\, preparing for objections you might get from leads and prospects\, and defining the company’s service offerings.
URL:https://www.new-wbc.org/event/get-in-control-of-your-sales-process-15-2-2-2-2/?lang=es
LOCATION:Webinar
CATEGORIES:General Business Courses
ATTACH;FMTTYPE=image/png:https://www.new-wbc.org/wp-content/uploads/2023/06/image_6CA0E351-2930-400C-BDD7-4BFD2917CC13.png
END:VEVENT
BEGIN:VEVENT
DTSTART;TZID=America/Los_Angeles:20240917T110000
DTEND;TZID=America/Los_Angeles:20240917T130000
DTSTAMP:20260420T173152
CREATED:20240816T230204Z
LAST-MODIFIED:20240816T230204Z
UID:30270-1726570800-1726578000@www.new-wbc.org
SUMMARY:Cash Management and Cash Flow Budget
DESCRIPTION:We will describe the purpose of cash flow management in a start-up small business. Assess a cash flow cycle and make some cash flow projections. Describe how a cash flow statement can help assess and improve the financial health of a start-up.
URL:https://www.new-wbc.org/event/cash-management-and-cash-flow-budget-23-2-2-2-2-2-2-2/?lang=es
LOCATION:Webinar
CATEGORIES:General Business Courses
ATTACH;FMTTYPE=image/png:https://www.new-wbc.org/wp-content/uploads/2023/09/image_BC7A726B-E4C8-4E55-A1C2-37B81D0ECC1C.png
END:VEVENT
BEGIN:VEVENT
DTSTART;TZID=America/Los_Angeles:20240917T160000
DTEND;TZID=America/Los_Angeles:20240917T180000
DTSTAMP:20260420T173152
CREATED:20240820T180827Z
LAST-MODIFIED:20240820T180827Z
UID:30319-1726588800-1726596000@www.new-wbc.org
SUMMARY:Sources of Revenue
DESCRIPTION:A great way to understand the different sources of revenue is to look at the whole list and find which ones make sense for the type of business you have. We will go over several types for you to select which ones are perfect for you.
URL:https://www.new-wbc.org/event/sources-of-revenue-19-2-2-3-2-2/?lang=es
LOCATION:Webinar
CATEGORIES:General Business Courses
END:VEVENT
BEGIN:VEVENT
DTSTART;TZID=America/Los_Angeles:20240924T110000
DTEND;TZID=America/Los_Angeles:20240924T120000
DTSTAMP:20260420T173152
CREATED:20240815T225252Z
LAST-MODIFIED:20240815T225655Z
UID:30236-1727175600-1727179200@www.new-wbc.org
SUMMARY:Licenses and Permits - DBA vs LLC
DESCRIPTION:This class will help you learn about business structures and the required licenses and permits your business may need. You will also learn how to complete applications for various licenses and other legal documents
URL:https://www.new-wbc.org/event/licenses-and-permits-dba-vs-llc-10-2-2-2-3-2-2-2/?lang=es
LOCATION:Webinar
CATEGORIES:General Business Courses
ATTACH;FMTTYPE=image/png:https://www.new-wbc.org/wp-content/uploads/2023/08/image_D597432E-3171-4E37-BFE6-6EF4500E7678.png
END:VEVENT
BEGIN:VEVENT
DTSTART;TZID=America/Los_Angeles:20240924T160000
DTEND;TZID=America/Los_Angeles:20240924T180000
DTSTAMP:20260420T173152
CREATED:20240820T170027Z
LAST-MODIFIED:20240826T160055Z
UID:30303-1727193600-1727200800@www.new-wbc.org
SUMMARY:CRM Software for Small Businesses
DESCRIPTION:Customer Relation Management (CRM) software is a must-have tool for small business automation and success. Join us to discuss the benefits of streamlining workflow for your business needs!
URL:https://www.new-wbc.org/event/crm-software-for-small-businesses-13-2-2-2-3-2/?lang=es
LOCATION:Webinar
CATEGORIES:General Business Courses
ATTACH;FMTTYPE=image/png:https://www.new-wbc.org/wp-content/uploads/2023/07/image_0E5E2CD1-A951-44FD-8F55-104107ACEF52.png
END:VEVENT
BEGIN:VEVENT
DTSTART;TZID=America/Los_Angeles:20240924T160000
DTEND;TZID=America/Los_Angeles:20240924T180000
DTSTAMP:20260420T173152
CREATED:20240820T214554Z
LAST-MODIFIED:20240923T234510Z
UID:30333-1727193600-1727200800@www.new-wbc.org
SUMMARY:Select the Ideal Partners and Decide the Terms
DESCRIPTION:Select partners and decide terms. Let’s talk about selecting and planning business partnerships\, including choosing suppliers and partners\, deciding which type of alliances to enter with them\, and on what terms.
URL:https://www.new-wbc.org/event/select-the-ideal-partners-and-decide-the-terms-11-2-2/?lang=es
LOCATION:Webinar
CATEGORIES:General Business Courses
ATTACH;FMTTYPE=image/png:https://www.new-wbc.org/wp-content/uploads/2023/08/image_F6399389-BAB6-432B-9B93-18963DF7B685.png
END:VEVENT
BEGIN:VEVENT
DTSTART;TZID=America/Los_Angeles:20240925T110000
DTEND;TZID=America/Los_Angeles:20240925T130000
DTSTAMP:20260420T173152
CREATED:20240816T210327Z
LAST-MODIFIED:20240913T201248Z
UID:30261-1727262000-1727269200@www.new-wbc.org
SUMMARY:The Change Advantage- Mastering Agility and Adaptation in the Business World
DESCRIPTION:In today’s rapidly changing business environment\, mastering change is crucial for success. This class equips professionals with essential strategies to effectively navigate and leverage change. Participants will learn to understand the dynamics driving change\, develop adaptability\, and implement effective change management techniques. The course focuses on fostering a change-ready culture\, enhancing leadership capabilities\, and utilizing practical tools for real-world applications. This course provides the skills needed to turn change into a competitive advantage\, driving growth and innovation to your business. \n 
URL:https://www.new-wbc.org/event/the-change-advantage-mastering-agility-and-adaptation-in-the-business-world/?lang=es
LOCATION:Webinar
CATEGORIES:General Business Courses
ATTACH;FMTTYPE=image/png:https://www.new-wbc.org/wp-content/uploads/2024/08/larry.png
END:VEVENT
BEGIN:VEVENT
DTSTART;TZID=America/Los_Angeles:20240926T100000
DTEND;TZID=America/Los_Angeles:20240926T140000
DTSTAMP:20260420T173152
CREATED:20240830T043532Z
LAST-MODIFIED:20240830T043533Z
UID:30440-1727344800-1727359200@www.new-wbc.org
SUMMARY:Celebrating Hispanic Heritage Month - Award Ceremony
DESCRIPTION:Celebrate Latino Excellence \nJoin us on September 26\, 2024 from 10AM to 2PM as we honor the outstanding achievements of Latino entrepreneurs who are making a difference in their communities and industries. \nEvent Details: \nDate: September 26\, 2024 \nTime: 10AM – 2PM \nLocation: 18700 Sherman Way Suite 112\, Reseda\, CA 91335 \nEnjoy delicious tacos as we celebrate and connect during the event. \n\nRecognizing Talent\n\nWe will present three prestigious awards: \n\nLatino Young Adult Entrepreneur\nMicro Latino Business of the Year\nCommunity Impact Award.\n\n\nHear from our award winners as they share their inspiring journeys of innovation\, resilience\, and succes\nGain valuable insights during our Access to Capital panel\, featuring experts who will provide crucial advice on securing funding and growing your business.\nNetwork with fellow entrepreneurs\, industry leaders\, and financial institutions\, and forge connections that can help take your business to the next level.\nDon’t miss this opportunity to celebrate Hispanic Heritage Month with a community of like-minded professionals dedicated to fostering growth and success.
URL:https://www.new-wbc.org/event/celebrating-hispanic-heritage-month-award-ceremony/?lang=es
LOCATION:18700 Sherman Way suite #118 Reseda CA\, 91335\, 18700 Sherman Way Suite #118\, Reseda\, CA\, 91335\, United States
CATEGORIES:Expos & Panels,General Business Courses
ATTACH;FMTTYPE=image/png:https://www.new-wbc.org/wp-content/uploads/2024/08/unnamed.png
END:VEVENT
BEGIN:VEVENT
DTSTART;TZID=America/Los_Angeles:20240926T160000
DTEND;TZID=America/Los_Angeles:20240926T180000
DTSTAMP:20260420T173152
CREATED:20240820T195625Z
LAST-MODIFIED:20240820T195625Z
UID:30329-1727366400-1727373600@www.new-wbc.org
SUMMARY:Get on Top of the Legal Requirements to Your Business
DESCRIPTION:Defining legal requirements for small business. We will focus Area on defining required legal documents\, selecting a legal structure for the company\, renegotiating contracts\, and ensuring corporate compliance with laws and regulations\, as well as the company’s intellectual property.
URL:https://www.new-wbc.org/event/get-on-top-of-the-legal-requirements-to-your-business-15-2-2-2-2-2-2-2/?lang=es
LOCATION:Webinar
CATEGORIES:General Business Courses
ATTACH;FMTTYPE=image/png:https://www.new-wbc.org/wp-content/uploads/2023/08/Screenshot-376.png
END:VEVENT
BEGIN:VEVENT
DTSTART;TZID=America/Los_Angeles:20240930T160000
DTEND;TZID=America/Los_Angeles:20240930T180000
DTSTAMP:20260420T173152
CREATED:20240816T220226Z
LAST-MODIFIED:20240816T220226Z
UID:30257-1727712000-1727719200@www.new-wbc.org
SUMMARY:Cybersecurity: Learning to Protect Your Business
DESCRIPTION:Learn how to protect yourself\, your business\, and your customers online. Don’t take the easy way out– your data is too valuable! Get the latest news\, best practices\, and resources to stay safe and secure.
URL:https://www.new-wbc.org/event/cybersecurity-learning-to-protect-your-business-4-2-2-2-2-2/?lang=es
LOCATION:Webinar
CATEGORIES:General Business Courses
ATTACH;FMTTYPE=image/png:https://www.new-wbc.org/wp-content/uploads/2023/08/image_835882B2-B95D-47F9-B206-F7BBC2EFB7F0.png
END:VEVENT
END:VCALENDAR