BEGIN:VCALENDAR
VERSION:2.0
PRODID:-//NEW Women&#039;s Business Center - ECPv6.15.17//NONSGML v1.0//EN
CALSCALE:GREGORIAN
METHOD:PUBLISH
X-ORIGINAL-URL:https://www.new-wbc.org/?lang=es
X-WR-CALDESC:Eventos para NEW Women&#039;s Business Center
REFRESH-INTERVAL;VALUE=DURATION:PT1H
X-Robots-Tag:noindex
X-PUBLISHED-TTL:PT1H
BEGIN:VTIMEZONE
TZID:America/Los_Angeles
BEGIN:DAYLIGHT
TZOFFSETFROM:-0800
TZOFFSETTO:-0700
TZNAME:PDT
DTSTART:20230312T100000
END:DAYLIGHT
BEGIN:STANDARD
TZOFFSETFROM:-0700
TZOFFSETTO:-0800
TZNAME:PST
DTSTART:20231105T090000
END:STANDARD
BEGIN:DAYLIGHT
TZOFFSETFROM:-0800
TZOFFSETTO:-0700
TZNAME:PDT
DTSTART:20240310T100000
END:DAYLIGHT
BEGIN:STANDARD
TZOFFSETFROM:-0700
TZOFFSETTO:-0800
TZNAME:PST
DTSTART:20241103T090000
END:STANDARD
BEGIN:DAYLIGHT
TZOFFSETFROM:-0800
TZOFFSETTO:-0700
TZNAME:PDT
DTSTART:20250309T100000
END:DAYLIGHT
BEGIN:STANDARD
TZOFFSETFROM:-0700
TZOFFSETTO:-0800
TZNAME:PST
DTSTART:20251102T090000
END:STANDARD
END:VTIMEZONE
BEGIN:VEVENT
DTSTART;TZID=America/Los_Angeles:20241104T160000
DTEND;TZID=America/Los_Angeles:20241104T180000
DTSTAMP:20260420T134043
CREATED:20241015T202502Z
LAST-MODIFIED:20241015T202502Z
UID:31484-1730736000-1730743200@www.new-wbc.org
SUMMARY:Getting a 360º Perspective on Your Business
DESCRIPTION:The “Four Challenges” are the corner stones of building and growing a business.Every business has a challenge in creating an attractive business concept\, in establishing a strong organization\, in building lasting customer relations\, and in maintaining profitable operations. Within which of the four areas do you think you have the biggest challenges at the moment? \n\n\n 
URL:https://www.new-wbc.org/event/getting-a-360o-perspective-on-your-business/?lang=es
LOCATION:Webinar
CATEGORIES:General Business Courses
END:VEVENT
BEGIN:VEVENT
DTSTART;TZID=America/Los_Angeles:20241107T150000
DTEND;TZID=America/Los_Angeles:20241107T170000
DTSTAMP:20260420T134043
CREATED:20241003T001520Z
LAST-MODIFIED:20241003T001520Z
UID:31318-1730991600-1730998800@www.new-wbc.org
SUMMARY:Discovering your Business Brand
DESCRIPTION:An interactive workshop to identify the unique characteristics of your business and how to communicate them to your target market This is a workshop that provides an overview of how to create marketing positioning & messaging for your business. In this interactive session\, attendees will engage in exercises that will help them create messaging that highlights what makes their business unique and different from their competition. Participants will learn key principles and practical techniques to develop effective positioning for their business and create compelling and consistent marketing messaging that resonates with their target audience.
URL:https://www.new-wbc.org/event/discovering-your-business-brand-2/?lang=es
LOCATION:Webinar
CATEGORIES:General Business Courses
ATTACH;FMTTYPE=image/png:https://www.new-wbc.org/wp-content/uploads/2024/10/Discovering-your-Business-Brand.png
END:VEVENT
BEGIN:VEVENT
DTSTART;TZID=America/Los_Angeles:20241111T173000
DTEND;TZID=America/Los_Angeles:20241111T200000
DTSTAMP:20260420T134043
CREATED:20241018T214339Z
LAST-MODIFIED:20241018T214339Z
UID:31561-1731346200-1731355200@www.new-wbc.org
SUMMARY:Antelope Valley How to Launch a Business Session 1
DESCRIPTION:Workshop 1: Building the Entrepreneur Mindset \nLaunching a business starts with the right mindset. In this session\, we’ll explore how to develop the resilience and adaptability needed for success\, uncover your deeper «why» to keep you motivated\, and use mind mapping techniques to identify business ideas that align with your strengths and passions. By the end\, you’ll be equipped with a clear vision and a strong entrepreneurial mindset to start your journey with confidence! \n 
URL:https://www.new-wbc.org/event/antelope-valley-how-to-launch-a-business-session-1/?lang=es
LOCATION:Edwards Federal Credit Union\, 39963 10th St W\, Palmdale\, CA\, 93551\, United States
CATEGORIES:12 Step Program,General Business Courses
ATTACH;FMTTYPE=image/png:https://www.new-wbc.org/wp-content/uploads/2024/10/AV-How-to-Launch-2024-PNG.png
END:VEVENT
BEGIN:VEVENT
DTSTART;TZID=America/Los_Angeles:20241112T110000
DTEND;TZID=America/Los_Angeles:20241112T130000
DTSTAMP:20260420T134043
CREATED:20241015T181248Z
LAST-MODIFIED:20241021T171531Z
UID:31445-1731409200-1731416400@www.new-wbc.org
SUMMARY:Licenses and Permits - Answering Questions about your DBA\, EIN\, Business Licenses and Selling Permits.
DESCRIPTION:We answer all your questions to register your business. Join us for a conversation on what is best for the type of business you want to start or to bring current your operations.
URL:https://www.new-wbc.org/event/licenses-and-permits-dba-vs-llc-10-2-2-2-3-2-2-2-2-2-2-2-2/?lang=es
LOCATION:Webinar
CATEGORIES:General Business Courses
ATTACH;FMTTYPE=image/png:https://www.new-wbc.org/wp-content/uploads/2023/07/image_EE05E748-6C45-45E5-8E69-D4A8B22C89DC.png
END:VEVENT
BEGIN:VEVENT
DTSTART;TZID=America/Los_Angeles:20241112T160000
DTEND;TZID=America/Los_Angeles:20241112T180000
DTSTAMP:20260420T134043
CREATED:20241015T204545Z
LAST-MODIFIED:20241015T204545Z
UID:31487-1731427200-1731434400@www.new-wbc.org
SUMMARY:Get Your Marketing Message Out to the Right Clients
DESCRIPTION:We will go over the “Marketing Fan” which shows a list of 6 broad categories of marketing that you can be inspired by when selecting your marketing mix. Often it makes sense to use multiple media in your marketing plan instead of just one channel. There are many different marketing methods to choose from\, and a way to select the right ones is to figure out what is the purpose of the marketing.
URL:https://www.new-wbc.org/event/get-your-marketing-message-out-to-the-right-clients/?lang=es
LOCATION:Webinar
CATEGORIES:General Business Courses
ATTACH;FMTTYPE=image/png:https://www.new-wbc.org/wp-content/uploads/2024/10/image_49EBA203-E7EA-4FC1-9FDF-AD20D9F432AC.png
END:VEVENT
BEGIN:VEVENT
DTSTART;TZID=America/Los_Angeles:20241112T173000
DTEND;TZID=America/Los_Angeles:20241112T200000
DTSTAMP:20260420T134043
CREATED:20241018T214812Z
LAST-MODIFIED:20241018T214812Z
UID:31566-1731432600-1731441600@www.new-wbc.org
SUMMARY:Antelope Valley How to Launch a Business Session 2
DESCRIPTION:Workshop 2: Laying the Groundwork for Your Business \nIn this session\, you’ll learn how to build a solid foundation for your business by conducting effective market research\, choosing the right legal structure\, and outlining a comprehensive business plan. These steps will ensure you understand your market\, protect your assets\, and have a clear roadmap for launching and growing your business.
URL:https://www.new-wbc.org/event/antelope-valley-how-to-launch-a-business-session-2/?lang=es
LOCATION:Edwards Federal Credit Union\, 39963 10th St W\, Palmdale\, CA\, 93551\, United States
CATEGORIES:12 Step Program,General Business Courses
ATTACH;FMTTYPE=image/png:https://www.new-wbc.org/wp-content/uploads/2024/10/AV-How-to-Launch-2024-PNG.png
END:VEVENT
BEGIN:VEVENT
DTSTART;TZID=America/Los_Angeles:20241113T133000
DTEND;TZID=America/Los_Angeles:20241113T153000
DTSTAMP:20260420T134043
CREATED:20241021T174229Z
LAST-MODIFIED:20241021T174229Z
UID:31603-1731504600-1731511800@www.new-wbc.org
SUMMARY:Government Procurement
DESCRIPTION:What exactly is procurement? Procurement is the process of purchasing goods or services. Procurement expenses can fall into several different categories\, depending on the procurement demand. Competitive bidding is usually a part of most large-scale procurement processes involving multiple bidders. In this webinar\, we will be talking about procurement needs from the government. You want to sell to the government this is your first step. Join us for a free class.
URL:https://www.new-wbc.org/event/government-procurement-5-2-2/?lang=es
LOCATION:Webinar
CATEGORIES:General Business Courses
ATTACH;FMTTYPE=image/png:https://www.new-wbc.org/wp-content/uploads/2024/08/Government-Procurement.png
END:VEVENT
BEGIN:VEVENT
DTSTART;TZID=America/Los_Angeles:20241113T173000
DTEND;TZID=America/Los_Angeles:20241113T200000
DTSTAMP:20260420T134043
CREATED:20241018T215135Z
LAST-MODIFIED:20241018T215135Z
UID:31568-1731519000-1731528000@www.new-wbc.org
SUMMARY:Antelope Valley How to Launch a Business Session 3
DESCRIPTION:Workshop 3: Structuring and Growing Your Business \nThis session will focus on defining your business processes\, establishing effective management practices\, and preparing for growth. You’ll learn how to streamline operations\, manage your team and resources efficiently\, and create strategies to scale your business. By mastering these key areas\, you’ll be well-equipped to run and grow a successful venture.
URL:https://www.new-wbc.org/event/antelope-valley-how-to-launch-a-business-session-3/?lang=es
LOCATION:Edwards Federal Credit Union\, 39963 10th St W\, Palmdale\, CA\, 93551\, United States
CATEGORIES:12 Step Program,General Business Courses
ATTACH;FMTTYPE=image/png:https://www.new-wbc.org/wp-content/uploads/2024/10/AV-How-to-Launch-2024-PNG.png
END:VEVENT
BEGIN:VEVENT
DTSTART;TZID=America/Los_Angeles:20241114T173000
DTEND;TZID=America/Los_Angeles:20241114T200000
DTSTAMP:20260420T134043
CREATED:20241018T215504Z
LAST-MODIFIED:20241018T215505Z
UID:31570-1731605400-1731614400@www.new-wbc.org
SUMMARY:Antelope Valley How to Launch a Business Session 4
DESCRIPTION:Workshop 4: Launching and Building Strong Foundations \nIn this session\, we’ll cover the final steps to launching your business. Learn how to build your dream team\, foster strong relationships with partners and customers\, and prepare for a successful launch. With the right people and connections in place\, you’ll be ready to take your business to the market with confidence
URL:https://www.new-wbc.org/event/antelope-valley-how-to-launch-a-business-session-4/?lang=es
LOCATION:Edwards Federal Credit Union\, 39963 10th St W\, Palmdale\, CA\, 93551\, United States
CATEGORIES:12 Step Program,General Business Courses
ATTACH;FMTTYPE=image/png:https://www.new-wbc.org/wp-content/uploads/2024/10/AV-How-to-Launch-2024-PNG.png
END:VEVENT
BEGIN:VEVENT
DTSTART;TZID=America/Los_Angeles:20241116T140000
DTEND;TZID=America/Los_Angeles:20241116T160000
DTSTAMP:20260420T134043
CREATED:20241105T215405Z
LAST-MODIFIED:20241105T215405Z
UID:31741-1731765600-1731772800@www.new-wbc.org
SUMMARY:Pitching and Querying Your Book Workshop
DESCRIPTION:Join us for a fun and hands-on workshop\, Pitching and Questing Your Book\, on November 16\, 2024\, from 2:00 pm to 4:00 pm. This workshop is designed to equip aspiring and experienced writers with the essential skills needed to successfully pitch and query their books to agents and publishers. \nThrough interactive sessions\, participants will learn how to conduct market research\, create a compelling pitch\, and write effective query letters. Working in small groups\, participants will have the opportunity to collaborate\, present their work\, and receive personalized feedback. Each session will feature subject matter experts. \nWhether you’re looking to refine your existing skills or gain new knowledge\, this workshop offers a comprehensive approach to navigating the competitive publishing landscape. Space is limited\, so register today to take the next step in your writing journey!
URL:https://www.new-wbc.org/event/pitching-and-querying-your-book-workshop-2/?lang=es
LOCATION:Women’s Business Center\, 18700 Sherman Way\, Reseda\, CA\, 91335\, United States
CATEGORIES:General Business Courses
ATTACH;FMTTYPE=image/jpeg:https://www.new-wbc.org/wp-content/uploads/2024/11/Flyer_2024-scaled.jpg
END:VEVENT
BEGIN:VEVENT
DTSTART;TZID=America/Los_Angeles:20241118T160000
DTEND;TZID=America/Los_Angeles:20241118T180000
DTSTAMP:20260420T134043
CREATED:20241015T195455Z
LAST-MODIFIED:20241015T195455Z
UID:31470-1731945600-1731952800@www.new-wbc.org
SUMMARY:Register to Protect -Trademarks\, Copyrights\, & Patents
DESCRIPTION:Learning about intellectual property is essential for small businesses to protect their ideas. Inventors you need a patent and/or a trademark. Join us and learn the steps to protect your business.
URL:https://www.new-wbc.org/event/register-to-protect-trademarks-copyrights-patents/?lang=es
LOCATION:Webinar
CATEGORIES:General Business Courses
ATTACH;FMTTYPE=image/png:https://www.new-wbc.org/wp-content/uploads/2023/08/Register-to-Protect-Trademarks-Copyrights-Patents.png
END:VEVENT
BEGIN:VEVENT
DTSTART;TZID=America/Los_Angeles:20241118T160000
DTEND;TZID=America/Los_Angeles:20241118T180000
DTSTAMP:20260420T134043
CREATED:20241021T173801Z
LAST-MODIFIED:20241021T173801Z
UID:31599-1731945600-1731952800@www.new-wbc.org
SUMMARY:Web Design for Business Owners
DESCRIPTION:In this class\, you will learn how to plan\, design\, and build your own website. By the end of this 2-hour workshop\, you will have the tools and knowledge to go successfully operate your business online. No skills necessary; just bring a computer and your questions!
URL:https://www.new-wbc.org/event/web-design-for-business-owners-4-2-2-2-2-2-2-2-2-2-3/?lang=es
LOCATION:Webinar
CATEGORIES:General Business Courses
ATTACH;FMTTYPE=image/png:https://www.new-wbc.org/wp-content/uploads/2024/10/Web-Design.png
END:VEVENT
BEGIN:VEVENT
DTSTART;TZID=America/Los_Angeles:20241119T110000
DTEND;TZID=America/Los_Angeles:20241119T130000
DTSTAMP:20260420T134043
CREATED:20241015T171709Z
LAST-MODIFIED:20241023T192816Z
UID:31441-1732014000-1732021200@www.new-wbc.org
SUMMARY:Corporation vs LLC
DESCRIPTION:The ownership structure that’s right for your business depends on how many people will own the business\, how the business will be run\, what types of services and products you will provide and certain tax considerations.
URL:https://www.new-wbc.org/event/corporation-vs-llc-14-2-2-2-2-2-2/?lang=es
LOCATION:Webinar
CATEGORIES:General Business Courses
END:VEVENT
BEGIN:VEVENT
DTSTART;TZID=America/Los_Angeles:20241119T160000
DTEND;TZID=America/Los_Angeles:20241119T180000
DTSTAMP:20260420T134043
CREATED:20241015T183821Z
LAST-MODIFIED:20241015T183821Z
UID:31450-1732032000-1732039200@www.new-wbc.org
SUMMARY:Work on Your Network and Make It Work for You
DESCRIPTION:Many businesses relationships come from network introductions. We will work on a plan on how to create the connections and develop the relationships needed to grow you network. By expanding your reach your business will grow. Join us and make it work for you.
URL:https://www.new-wbc.org/event/work-on-your-network-and-make-it-work-for-you-13-2-2-2-2-2-2-2-2-2/?lang=es
LOCATION:Webinar
CATEGORIES:General Business Courses
END:VEVENT
BEGIN:VEVENT
DTSTART;TZID=America/Los_Angeles:20241120T110000
DTEND;TZID=America/Los_Angeles:20241120T130000
DTSTAMP:20260420T134043
CREATED:20241015T164442Z
LAST-MODIFIED:20241015T164442Z
UID:31438-1732100400-1732107600@www.new-wbc.org
SUMMARY:The Change Advantage- Mastering Agility and Adaptation in the Business World
DESCRIPTION:In today’s rapidly changing business environment\, mastering change is crucial for success. This class equips professionals with essential strategies to effectively navigate and leverage change. Participants will learn to understand the dynamics driving change\, develop adaptability\, and implement effective change management techniques. The course focuses on fostering a change-ready culture\, enhancing leadership capabilities\, and utilizing practical tools for real-world applications. This course provides the skills needed to turn change into a competitive advantage\, driving growth and innovation to your business. \n 
URL:https://www.new-wbc.org/event/the-change-advantage-mastering-agility-and-adaptation-in-the-business-world-2/?lang=es
LOCATION:Webinar
CATEGORIES:General Business Courses
ATTACH;FMTTYPE=image/png:https://www.new-wbc.org/wp-content/uploads/2024/08/larry.png
END:VEVENT
BEGIN:VEVENT
DTSTART;TZID=America/Los_Angeles:20241121T170000
DTEND;TZID=America/Los_Angeles:20241121T190000
DTSTAMP:20260420T134043
CREATED:20241116T003819Z
LAST-MODIFIED:20241121T193424Z
UID:31816-1732208400-1732215600@www.new-wbc.org
SUMMARY:Boost Your Business with RAMP Certification and City Contract Opportunities
DESCRIPTION:Join our upcoming webinar to get step-by-step guidance on registering with the Los Angeles Regional Alliance Marketplace for Procurement (RAMP) and taking advantage of valuable certification programs! RAMP is a powerful\, one-stop platform that allows you to view and download contracting opportunities from the City of Los Angeles\, connect with certified subcontractors\, and elevate your business with certifications through the Business Inclusion Program (BIP) and Local Business Preference Program (LBPP). This session will walk you through creating your Angeleno Account—a required single sign-on to access RAMP—and updating your profile with relevant North American Industry Classification System (NAICS) codes to showcase your expertise. This webinar will also highlight available certifications\, including Local Business Enterprise (LBE) and Disabled Veteran Business Enterprise (DVBE). Don’t miss out on this chance to expand your business reach and access exclusive city contracts—register today!
URL:https://www.new-wbc.org/event/boost-your-business-with-ramp-certification-and-city-contract-opportunities/?lang=es
LOCATION:Webinar
CATEGORIES:General Business Courses
ATTACH;FMTTYPE=image/png:https://www.new-wbc.org/wp-content/uploads/2024/11/East-LA-BSC-Region-Logo-6.png
ORGANIZER;CN="NEW | East LA Business Source Center":MAILTO:elabsc@neworg.us
END:VEVENT
BEGIN:VEVENT
DTSTART;TZID=America/Los_Angeles:20241125T170000
DTEND;TZID=America/Los_Angeles:20241125T190000
DTSTAMP:20260420T134043
CREATED:20241116T004137Z
LAST-MODIFIED:20241121T221240Z
UID:31820-1732554000-1732561200@www.new-wbc.org
SUMMARY:Mastering SWOT Analysis for Strategic Success in Your Industry
DESCRIPTION:Unlock the power of SWOT analysis to drive your business forward! In this comprehensive webinar\, we’ll dive into the essentials of conducting a Strengths\, Weaknesses\, Opportunities\, and Threats (SWOT) analysis and how it can serve as a vital tool in making informed strategic decisions. Using real-world examples from the restaurant and transportation industries\, we’ll explore how to identify your internal strengths and weaknesses\, spot external opportunities\, and recognize threats to your business. Learn how to leverage insights from a well-executed SWOT analysis to create a roadmap for growth\, gain a competitive edge\, and overcome industry-specific challenges. Join us to start making data-driven decisions and elevate your business strategy!
URL:https://www.new-wbc.org/event/mastering-swot-analysis-for-strategic-success-in-your-industry/?lang=es
LOCATION:Webinar
CATEGORIES:General Business Courses
ATTACH;FMTTYPE=image/png:https://www.new-wbc.org/wp-content/uploads/2024/11/East-LA-BSC-Region-Logo-6.png
ORGANIZER;CN="NEW | East LA Business Source Center":MAILTO:elabsc@neworg.us
END:VEVENT
BEGIN:VEVENT
DTSTART;TZID=America/Los_Angeles:20241126T100000
DTEND;TZID=America/Los_Angeles:20241126T110000
DTSTAMP:20260420T134043
CREATED:20241116T004401Z
LAST-MODIFIED:20241121T221744Z
UID:31822-1732615200-1732618800@www.new-wbc.org
SUMMARY:Understanding Beneficial Ownership Information (BOI) Reporting Requirements for LLCs
DESCRIPTION:Starting January 18\, 2024\, all U.S.-based LLCs must file a Beneficial Ownership Information (BOI) report—an essential step in combating financial crime and enhancing transparency. Join us for a free webinar to learn everything you need to know about BOI reporting requirements\, including who qualifies for exemptions\, how to complete the report\, and what’s at stake for non-compliance. We’ll cover critical information to help protect your business from severe civil and criminal penalties\, which could include fines up to $100\,000 or even prison time. Don’t miss this opportunity to stay compliant and informed!
URL:https://www.new-wbc.org/event/understanding-leases-and-property-management-navigating-contracts-and-sb1103-protections-for-commercial-tenants/?lang=es
LOCATION:Webinar
CATEGORIES:General Business Courses
ATTACH;FMTTYPE=image/png:https://www.new-wbc.org/wp-content/uploads/2024/11/East-LA-BSC-Region-Logo-6.png
ORGANIZER;CN="NEW | East LA Business Source Center":MAILTO:elabsc@neworg.us
END:VEVENT
BEGIN:VEVENT
DTSTART;TZID=America/Los_Angeles:20241126T170000
DTEND;TZID=America/Los_Angeles:20241126T190000
DTSTAMP:20260420T134043
CREATED:20241116T004644Z
LAST-MODIFIED:20241121T221954Z
UID:31825-1732640400-1732647600@www.new-wbc.org
SUMMARY:Strategic Marketing for Small Businesses—Budgeting\, Planning\, and Targeting Your Ideal Audience
DESCRIPTION:Marketing doesn’t have to be overwhelming—especially when you have a clear plan! Join us for a webinar designed to help small businesses create a focused marketing strategy that aligns with your goals and budget. Discover how to allocate a percentage of sales to build a realistic marketing budget and learn why planning ahead can make your marketing efforts more effective. We’ll cover tips on identifying your ideal customer\, choosing the right platforms\, and understanding the unique demographics of each social media channel to maximize your reach. Empower your business with a marketing plan tailored to attract the right clients and drive growth!
URL:https://www.new-wbc.org/event/strategic-marketing-for-small-businesses-budgeting-planning-and-targeting-your-ideal-audience/?lang=es
LOCATION:Webinar
CATEGORIES:General Business Courses
ATTACH;FMTTYPE=image/png:https://www.new-wbc.org/wp-content/uploads/2024/11/East-LA-BSC-Region-Logo-6.png
ORGANIZER;CN="NEW | East LA Business Source Center":MAILTO:elabsc@neworg.us
END:VEVENT
END:VCALENDAR