BEGIN:VCALENDAR
VERSION:2.0
PRODID:-//NEW Women&#039;s Business Center - ECPv6.15.17//NONSGML v1.0//EN
CALSCALE:GREGORIAN
METHOD:PUBLISH
X-ORIGINAL-URL:https://www.new-wbc.org/?lang=es
X-WR-CALDESC:Eventos para NEW Women&#039;s Business Center
REFRESH-INTERVAL;VALUE=DURATION:PT1H
X-Robots-Tag:noindex
X-PUBLISHED-TTL:PT1H
BEGIN:VTIMEZONE
TZID:America/Los_Angeles
BEGIN:DAYLIGHT
TZOFFSETFROM:-0800
TZOFFSETTO:-0700
TZNAME:PDT
DTSTART:20240310T100000
END:DAYLIGHT
BEGIN:STANDARD
TZOFFSETFROM:-0700
TZOFFSETTO:-0800
TZNAME:PST
DTSTART:20241103T090000
END:STANDARD
BEGIN:DAYLIGHT
TZOFFSETFROM:-0800
TZOFFSETTO:-0700
TZNAME:PDT
DTSTART:20250309T100000
END:DAYLIGHT
BEGIN:STANDARD
TZOFFSETFROM:-0700
TZOFFSETTO:-0800
TZNAME:PST
DTSTART:20251102T090000
END:STANDARD
BEGIN:DAYLIGHT
TZOFFSETFROM:-0800
TZOFFSETTO:-0700
TZNAME:PDT
DTSTART:20260308T100000
END:DAYLIGHT
BEGIN:STANDARD
TZOFFSETFROM:-0700
TZOFFSETTO:-0800
TZNAME:PST
DTSTART:20261101T090000
END:STANDARD
END:VTIMEZONE
BEGIN:VEVENT
DTSTART;TZID=America/Los_Angeles:20250203T180000
DTEND;TZID=America/Los_Angeles:20250203T200000
DTSTAMP:20260420T075948
CREATED:20250128T004734Z
LAST-MODIFIED:20250128T004756Z
UID:32674-1738605600-1738612800@www.new-wbc.org
SUMMARY:Turn Clean Spaces into PROFITS - Start Your Residential or Commercial Cleaning Business Today!
DESCRIPTION:Join us to learn about the start up requirements to start a business in CLEANING. Learn about strategies you will need to start a cleaning business. What is the difference in licenses and permits between Commercial and Residential cleaning? How you can get leads. Tips and recommendations to launch a cleaning business. What are the business requirements\, liability insurance\, equipment and supplies. How to set the rates. Learn about the three tiers of cleaning\, sanitizing and disinfecting. What the cleaning contracts recommended and much more.
URL:https://www.new-wbc.org/event/turn-clean-spaces-into-profits-start-your-residential-or-commercial-cleaning-business-today/?lang=es
LOCATION:Webinar
CATEGORIES:General Business Courses
ATTACH;FMTTYPE=image/png:https://www.new-wbc.org/wp-content/uploads/2025/01/image_E2927799-510F-4172-AD25-EE8505F5A8E4.png
END:VEVENT
BEGIN:VEVENT
DTSTART;TZID=America/Los_Angeles:20250204T160000
DTEND;TZID=America/Los_Angeles:20250204T180000
DTSTAMP:20260420T075948
CREATED:20250128T004951Z
LAST-MODIFIED:20250128T004952Z
UID:32678-1738684800-1738692000@www.new-wbc.org
SUMMARY:Ensure a Strong Management of your Company
DESCRIPTION:Do you have a owner distribution plan? Who makes the decisions? The shares of the company is a way to determine the value of the company. Let’s work it\, join the webinar to learn more about this topic.
URL:https://www.new-wbc.org/event/ensure-a-strong-management-of-your-company/?lang=es
LOCATION:Webinar
CATEGORIES:General Business Courses
ATTACH;FMTTYPE=image/png:https://www.new-wbc.org/wp-content/uploads/2025/01/image_6513460F-8A51-4151-9A2D-E29107A7089D.png
END:VEVENT
BEGIN:VEVENT
DTSTART;TZID=America/Los_Angeles:20250204T170000
DTEND;TZID=America/Los_Angeles:20250204T190000
DTSTAMP:20260420T075948
CREATED:20250128T005143Z
LAST-MODIFIED:20250128T005143Z
UID:32683-1738688400-1738695600@www.new-wbc.org
SUMMARY:How to Write a Screenplay Part 1 of 2 WIE Entertainment
DESCRIPTION:How do you take your ideas and turn them into a screenplay? In this session\, we go through the process of coming up with your ideas\, creating notecards about individual plot points\, creating your characters\, and coming up with your treatment\, which is a summation of your story. We will also discuss some strategies for creating your long outline and beginning your actual writing process. We debate whether it is better to write from top to bottom or write individual scenes in whatever order inspires you. The correct answer… there is no right or wrong\, but what gets you to finish that first draft!
URL:https://www.new-wbc.org/event/how-to-write-a-screenplay-part-1-of-2-wie-entertainment-3/?lang=es
LOCATION:Webinar
CATEGORIES:General Business Courses
ATTACH;FMTTYPE=image/png:https://www.new-wbc.org/wp-content/uploads/2025/01/image_A4DE710F-5715-4F5B-BC85-977D6D4DEB8E.png
END:VEVENT
BEGIN:VEVENT
DTSTART;TZID=America/Los_Angeles:20250206T130000
DTEND;TZID=America/Los_Angeles:20250206T150000
DTSTAMP:20260420T075948
CREATED:20250128T005507Z
LAST-MODIFIED:20250128T005507Z
UID:32691-1738846800-1738854000@www.new-wbc.org
SUMMARY:How to Get Past Writers Block - Entertainment WIE
DESCRIPTION:How to Get Past Writers Block — You have started writing… but now have the «first act follies»\, «second act blues»\, or «indecisive conclusion panic». What do You Do? Writing individual scenes rather than trying to write in order. Specific suggestions for writing basic scenes and making them come to life. Motivational tricks to get you going… and keep you enthused.
URL:https://www.new-wbc.org/event/how-to-get-past-writers-block-entertainment-wie/?lang=es
LOCATION:Webinar
CATEGORIES:General Business Courses
ATTACH;FMTTYPE=image/png:https://www.new-wbc.org/wp-content/uploads/2025/01/How-to-Get-Past-Writers-Block-Entertainment-WIE.png
END:VEVENT
BEGIN:VEVENT
DTSTART;TZID=America/Los_Angeles:20250206T160000
DTEND;TZID=America/Los_Angeles:20250206T180000
DTSTAMP:20260420T075948
CREATED:20250128T005336Z
LAST-MODIFIED:20250128T005336Z
UID:32687-1738857600-1738864800@www.new-wbc.org
SUMMARY:Get In Control of Your Sales Process
DESCRIPTION:Take control of the sales process. This class is about strengthening the sales cycle\, planning sales activities\, working on the customer pipeline\, preparing for objections you might get from leads and prospects\, and defining the company’s service offerings.
URL:https://www.new-wbc.org/event/get-in-control-of-your-sales-process-3/?lang=es
LOCATION:Webinar
CATEGORIES:General Business Courses
ATTACH;FMTTYPE=image/png:https://www.new-wbc.org/wp-content/uploads/2025/01/image_72C98443-4E98-482B-BD65-93AA5B765C16.png
END:VEVENT
BEGIN:VEVENT
DTSTART;TZID=America/Los_Angeles:20250211T110000
DTEND;TZID=America/Los_Angeles:20250211T120000
DTSTAMP:20260420T075948
CREATED:20250204T175604Z
LAST-MODIFIED:20250207T190747Z
UID:32793-1739271600-1739275200@www.new-wbc.org
SUMMARY:Licenses and Permits - Answering Questions about your DBA\, EIN\, Business Licenses and Selling Permit
DESCRIPTION:We answer all your questions to register your business. Join us for a conversation on what is best for the type of business you want to start or to bring current your operations.
URL:https://www.new-wbc.org/event/licenses-and-permits-answering-questions-about-your-dba-ein-business-licenses-and-selling-permit-5/?lang=es
LOCATION:Webinar
CATEGORIES:General Business Courses
ATTACH;FMTTYPE=image/png:https://www.new-wbc.org/wp-content/uploads/2023/07/image_EE05E748-6C45-45E5-8E69-D4A8B22C89DC.png
END:VEVENT
BEGIN:VEVENT
DTSTART;TZID=America/Los_Angeles:20250211T180000
DTEND;TZID=America/Los_Angeles:20250211T200000
DTSTAMP:20260420T075948
CREATED:20250121T172622Z
LAST-MODIFIED:20250121T172622Z
UID:32596-1739296800-1739304000@www.new-wbc.org
SUMMARY:Choosing the Right Business Structure: Sole Pro\, GP\, LP\, LLP\, LLC\, S-Corp\, and C-Corp
DESCRIPTION:In this concise webinar\, we’ll break down the key business structures Sole Proprietor\, GP\, LP\, LLP\, LLC\, S-Corp\, and C-Corp. Learn about tax obligations\, asset protection\, registration\, and how each structure impacts your business decisions. Gain the insights you need to make an informed choice and protect your business for the long term.
URL:https://www.new-wbc.org/event/choosing-the-right-business-structure-sole-pro-gp-lp-llp-llc-s-corp-and-c-corp/?lang=es
LOCATION:Webinar
CATEGORIES:General Business Courses
ATTACH;FMTTYPE=image/jpeg:https://www.new-wbc.org/wp-content/uploads/2025/01/teamwork-3213924_1280-scaled.jpg
END:VEVENT
BEGIN:VEVENT
DTSTART;TZID=America/Los_Angeles:20250213T100000
DTEND;TZID=America/Los_Angeles:20250213T140000
DTSTAMP:20260420T075948
CREATED:20241214T011857Z
LAST-MODIFIED:20250212T194202Z
UID:32190-1739440800-1739455200@www.new-wbc.org
SUMMARY:Celebrating Small Business Summit - Empowering Los Angeles Small Businesses
DESCRIPTION:New Economics for Women- WBC proudly present resources for your business to find and fund new growth opportunities. Join us in person as we have a fireside chat with experts in the areas of Business Certifications and Finance. \nWe will have vendors to showcase their products and services. \nThe event will feature the following key components: \nNetwork and Community Building:\nOpportunities for community members to connect\, network\, and build relationships with fellow entrepreneurs and professionals. \nPanel of Business Owners: \nAn insightful panel discussion featuring successful Black business owners who will share their experiences\, challenges\, and insights on entrepreneurship. \nCertification/Doing Business with the Government Speaker: \nA distinguished speaker who will provide valuable insights on certifications\, professional development\, and the significance of building skills within our community. \nAccess to Capital: \nInformation and resources on accessing capital for business growth\, with the aim of empowering individuals to take their entrepreneurial endeavors to new heights. \nWe believe that your perspective and input are crucial to the success of this event. Your ideas for topics\, activities\, and potential speakers will contribute to creating a meaningful and impactful celebration of February 2025’s Small Business Summit. \n 
URL:https://www.new-wbc.org/event/small-business-summit-2025/?lang=es
LOCATION:Westfield Topanga Community Center\, 21710 Vanowen St\, Canoga Park\, CA\, 91303\, United States
CATEGORIES:General Business Courses
ATTACH;FMTTYPE=image/png:https://www.new-wbc.org/wp-content/uploads/2024/12/20240213-SBS-Social.png
END:VEVENT
BEGIN:VEVENT
DTSTART;TZID=America/Los_Angeles:20250217T160000
DTEND;TZID=America/Los_Angeles:20250217T180000
DTSTAMP:20260420T075948
CREATED:20250128T011152Z
LAST-MODIFIED:20250128T011152Z
UID:32709-1739808000-1739815200@www.new-wbc.org
SUMMARY:Clarify your Business Idea
DESCRIPTION:The business mission has to do with the motivation and drive that built the business idea and the foundation of the company. Join us and let’s walk together your business idea.
URL:https://www.new-wbc.org/event/clarify-your-business-idea/?lang=es
LOCATION:Webinar
CATEGORIES:General Business Courses
ATTACH;FMTTYPE=image/png:https://www.new-wbc.org/wp-content/uploads/2025/01/Clarify-your-Business-Idea.png
END:VEVENT
BEGIN:VEVENT
DTSTART;TZID=America/Los_Angeles:20250217T180000
DTEND;TZID=America/Los_Angeles:20250217T200000
DTSTAMP:20260420T075948
CREATED:20250128T010730Z
LAST-MODIFIED:20250128T011237Z
UID:32701-1739815200-1739822400@www.new-wbc.org
SUMMARY:Marketing for Residential & Commercial Cleaning Services - Strategies to Shine
DESCRIPTION:Let’s put together a marketing plan to get your business found\, Find companies that provide leads. Learn about the marketing funnel. What is your message\, your price\, your availability. Tips and tricks to bring attention to your business. Who is your ideal client\, what about your brand conversation\, your focus website\, social media\, growing your email list and a referral program.
URL:https://www.new-wbc.org/event/marketing-for-residential-commercial-cleaning-services-strategies-to-shine/?lang=es
LOCATION:Webinar
CATEGORIES:Residential and Commercial Cleaning
ATTACH;FMTTYPE=image/png:https://www.new-wbc.org/wp-content/uploads/2025/01/Marketing-for-Residential-Commercial-Cleaning-Services-Strategies-to-Shine.png
END:VEVENT
BEGIN:VEVENT
DTSTART;TZID=America/Los_Angeles:20250218T110000
DTEND;TZID=America/Los_Angeles:20250218T130000
DTSTAMP:20260420T075949
CREATED:20250114T200122Z
LAST-MODIFIED:20250121T190051Z
UID:32545-1739876400-1739883600@www.new-wbc.org
SUMMARY:Corporation S
DESCRIPTION:S corporation means “Subchapter S corporation”\, or sometimes known as  “Small Business Corporation.» It’s a special tax status granted by the IRS (Internal Revenue Service) that lets corporations pass their corporate income\, credits and deductions through to their shareholders. Join us and learn about the importance of having a corporation and what are the benefits and conditions to file for one.
URL:https://www.new-wbc.org/event/corporation-s-3/?lang=es
LOCATION:Webinar
CATEGORIES:General Business Courses
ATTACH;FMTTYPE=image/png:https://www.new-wbc.org/wp-content/uploads/2024/08/Corporation-S.png
END:VEVENT
BEGIN:VEVENT
DTSTART;TZID=America/Los_Angeles:20250218T160000
DTEND;TZID=America/Los_Angeles:20250218T180000
DTSTAMP:20260420T075949
CREATED:20250128T011359Z
LAST-MODIFIED:20250128T011359Z
UID:32713-1739894400-1739901600@www.new-wbc.org
SUMMARY:Identify and Focus on the Right Customers
DESCRIPTION:How do I divide my clients into segments? Do you have the right clients? You will be able to review if your products and services are reaching all your potential for the clients you have or you will need different clients to reach your sale goals. Join us for an eye-opening session.
URL:https://www.new-wbc.org/event/identify-and-focus-on-the-right-customers/?lang=es
LOCATION:Webinar
CATEGORIES:General Business Courses
ATTACH;FMTTYPE=image/png:https://www.new-wbc.org/wp-content/uploads/2025/01/Identify-and-Focus-on-the-Right-Customers.png
END:VEVENT
BEGIN:VEVENT
DTSTART;TZID=America/Los_Angeles:20250218T180000
DTEND;TZID=America/Los_Angeles:20250218T200000
DTSTAMP:20260420T075949
CREATED:20250121T185319Z
LAST-MODIFIED:20250121T185319Z
UID:32600-1739901600-1739908800@www.new-wbc.org
SUMMARY:How to Apply for WOB\, MOB\, and SBO Certifications in LA County
DESCRIPTION:Learn how to apply for Women-Owned (WOB)\, Minority-Owned (MOB)\, and Small Business Owner (SBO) certifications in LA County. This webinar covers eligibility\, the application process\, and key tips to help your business qualify for county contracts and resources.
URL:https://www.new-wbc.org/event/how-to-apply-for-wob-mob-and-sbo-certifications-in-la-county/?lang=es
LOCATION:Webinar
CATEGORIES:General Business Courses
ATTACH;FMTTYPE=image/jpeg:https://www.new-wbc.org/wp-content/uploads/2025/01/pen-428305_1280-scaled.jpg
END:VEVENT
BEGIN:VEVENT
DTSTART;TZID=America/Los_Angeles:20250219T140000
DTEND;TZID=America/Los_Angeles:20250219T150000
DTSTAMP:20260420T075949
CREATED:20250128T011831Z
LAST-MODIFIED:20250128T011831Z
UID:32717-1739973600-1739977200@www.new-wbc.org
SUMMARY:VERIZON Small Business Digital Ready Program
DESCRIPTION:As we continue our partnership with Verizon and LISC to spread the word about an exciting FREE program for small businesses—the Verizon Small Business Digital Ready program. It’ll teach you strategies other businesses are using to get ahead. And you’ll learn how to be more digitally savvy. Small Business Digital Ready provides personalized content\, coaching\, networking and more\, and all the online tools are in one place\, so it’s easy to use. Sign up and find out more!
URL:https://www.new-wbc.org/event/verizon-small-business-digital-ready-program/?lang=es
LOCATION:Webinar
CATEGORIES:General Business Courses
ATTACH;FMTTYPE=image/png:https://www.new-wbc.org/wp-content/uploads/2025/01/image_E958151B-DBB1-421F-93B3-DEB5C48FD78C.png
END:VEVENT
BEGIN:VEVENT
DTSTART;TZID=America/Los_Angeles:20250220T160000
DTEND;TZID=America/Los_Angeles:20250220T180000
DTSTAMP:20260420T075949
CREATED:20250128T011939Z
LAST-MODIFIED:20250128T011939Z
UID:32729-1740067200-1740074400@www.new-wbc.org
SUMMARY:Design Products your customers wants
DESCRIPTION:Making decisions on which products to offer the customers is one key issue of every business. How do you decide on how many products you should have? What strategy do you come up with to give your current clients more options to keep buying from you? This and other topics will be our discussion in this session.
URL:https://www.new-wbc.org/event/design-products-your-customers-wants/?lang=es
LOCATION:Webinar
CATEGORIES:General Business Courses
ATTACH;FMTTYPE=image/png:https://www.new-wbc.org/wp-content/uploads/2025/01/image_2D9E7000-4AF7-438A-A7E7-3978E3F37534.png
END:VEVENT
BEGIN:VEVENT
DTSTART;TZID=America/Los_Angeles:20250224T110000
DTEND;TZID=America/Los_Angeles:20250224T130000
DTSTAMP:20260420T075949
CREATED:20250114T201159Z
LAST-MODIFIED:20250114T201159Z
UID:32547-1740394800-1740402000@www.new-wbc.org
SUMMARY:Corporation vs LLC
DESCRIPTION:The ownership structure that’s right for your business depends on how many people will own the business\, how the business will be run\, what types of services and products you will provide and certain tax considerations
URL:https://www.new-wbc.org/event/corporation-vs-llc-2/?lang=es
LOCATION:Webinar
CATEGORIES:General Business Courses
ATTACH;FMTTYPE=image/png:https://www.new-wbc.org/wp-content/uploads/2023/03/Corporation-vs-LLc.png
END:VEVENT
BEGIN:VEVENT
DTSTART;TZID=America/Los_Angeles:20250225T110000
DTEND;TZID=America/Los_Angeles:20250225T130000
DTSTAMP:20260420T075949
CREATED:20250128T004456Z
LAST-MODIFIED:20250128T004456Z
UID:32672-1740481200-1740488400@www.new-wbc.org
SUMMARY:Licenses and Permits - Answering Questions about your DBA\, EIN\, Business Licenses and Selling Permit
DESCRIPTION:We answer all your questions to register your business. Join us for a conversation on what is best for the type of business you want to start or to bring current your operations.
URL:https://www.new-wbc.org/event/licenses-and-permits-answering-questions-about-your-dba-ein-business-licenses-and-selling-permit-4/?lang=es
LOCATION:Webinar
CATEGORIES:General Business Courses
ATTACH;FMTTYPE=image/png:https://www.new-wbc.org/wp-content/uploads/2024/12/image_598D263A-9C86-448A-9EF8-337C7EFC7F5E.png
END:VEVENT
BEGIN:VEVENT
DTSTART;TZID=America/Los_Angeles:20250225T170000
DTEND;TZID=America/Los_Angeles:20250225T190000
DTSTAMP:20260420T075949
CREATED:20250128T005624Z
LAST-MODIFIED:20250128T005624Z
UID:32695-1740502800-1740510000@www.new-wbc.org
SUMMARY:How to Write a Screenplay Part 2 of 2 WIE
DESCRIPTION:In this follow-up to How to Write A Screenplay\, we discuss the actual formatting of the script. How do you write good scene descriptions? What are some of the tricks you can use to make dialogue work? Do you include camera movements in the scene descriptions? How do you format specialized issues such as cross-cutting between two locations at once or having a scene take place in a car? We will practice writing a scene as a group.
URL:https://www.new-wbc.org/event/how-to-write-a-screenplay-part-2-of-2-wie/?lang=es
LOCATION:Webinar
CATEGORIES:General Business Courses
ATTACH;FMTTYPE=image/png:https://www.new-wbc.org/wp-content/uploads/2025/01/image_A4DE710F-5715-4F5B-BC85-977D6D4DEB8E.png
END:VEVENT
END:VCALENDAR