BEGIN:VCALENDAR
VERSION:2.0
PRODID:-//NEW Women&#039;s Business Center - ECPv6.15.17//NONSGML v1.0//EN
CALSCALE:GREGORIAN
METHOD:PUBLISH
X-WR-CALNAME:NEW Women&#039;s Business Center
X-ORIGINAL-URL:https://www.new-wbc.org/?lang=es
X-WR-CALDESC:Eventos para NEW Women&#039;s Business Center
REFRESH-INTERVAL;VALUE=DURATION:PT1H
X-Robots-Tag:noindex
X-PUBLISHED-TTL:PT1H
BEGIN:VTIMEZONE
TZID:America/Los_Angeles
BEGIN:DAYLIGHT
TZOFFSETFROM:-0800
TZOFFSETTO:-0700
TZNAME:PDT
DTSTART:20240310T100000
END:DAYLIGHT
BEGIN:STANDARD
TZOFFSETFROM:-0700
TZOFFSETTO:-0800
TZNAME:PST
DTSTART:20241103T090000
END:STANDARD
BEGIN:DAYLIGHT
TZOFFSETFROM:-0800
TZOFFSETTO:-0700
TZNAME:PDT
DTSTART:20250309T100000
END:DAYLIGHT
BEGIN:STANDARD
TZOFFSETFROM:-0700
TZOFFSETTO:-0800
TZNAME:PST
DTSTART:20251102T090000
END:STANDARD
BEGIN:DAYLIGHT
TZOFFSETFROM:-0800
TZOFFSETTO:-0700
TZNAME:PDT
DTSTART:20260308T100000
END:DAYLIGHT
BEGIN:STANDARD
TZOFFSETFROM:-0700
TZOFFSETTO:-0800
TZNAME:PST
DTSTART:20261101T090000
END:STANDARD
END:VTIMEZONE
BEGIN:VEVENT
DTSTART;TZID=America/Los_Angeles:20250303T110000
DTEND;TZID=America/Los_Angeles:20250303T130000
DTSTAMP:20260420T053529
CREATED:20250203T191837Z
LAST-MODIFIED:20250203T191837Z
UID:32782-1740999600-1741006800@www.new-wbc.org
SUMMARY:Corporation S
DESCRIPTION:S corporation means “Subchapter S corporation”\, or sometimes known as  “Small Business Corporation.» It’s a special tax status granted by the IRS (Internal Revenue Service) that lets corporations pass their corporate income\, credits and deductions through to their shareholders. Join us and learn about the importance of having a corporation and what are the benefits and conditions to file for one.
URL:https://www.new-wbc.org/event/corporation-s-6/?lang=es
LOCATION:Webinar
CATEGORIES:General Business Courses
ATTACH;FMTTYPE=image/png:https://www.new-wbc.org/wp-content/uploads/2024/08/Corporation-S.png
END:VEVENT
BEGIN:VEVENT
DTSTART;TZID=America/Los_Angeles:20250306T160000
DTEND;TZID=America/Los_Angeles:20250306T180000
DTSTAMP:20260420T053529
CREATED:20250219T004223Z
LAST-MODIFIED:20250219T004223Z
UID:33035-1741276800-1741284000@www.new-wbc.org
SUMMARY:Get Your Marketing Message Out to the Right Clients
DESCRIPTION:We will go over the “Marketing Fan” which shows a list of 6 broad categories of marketing that you can be inspired by when selecting your marketing mix. Often it makes sense to use multiple media in your marketing plan instead of just one channel. There are many different marketing methods to choose from\, and a way to select the right ones is to figure out what is the purpose of the marketing.
URL:https://www.new-wbc.org/event/get-your-marketing-message-out-to-the-right-clients-2/?lang=es
LOCATION:Webinar
CATEGORIES:General Business Courses
ATTACH;FMTTYPE=image/png:https://www.new-wbc.org/wp-content/uploads/2024/10/image_49EBA203-E7EA-4FC1-9FDF-AD20D9F432AC.png
END:VEVENT
BEGIN:VEVENT
DTSTART;TZID=America/Los_Angeles:20250311T110000
DTEND;TZID=America/Los_Angeles:20250311T120000
DTSTAMP:20260420T053529
CREATED:20250218T185409Z
LAST-MODIFIED:20250218T185409Z
UID:33027-1741690800-1741694400@www.new-wbc.org
SUMMARY:Licenses and Permits - Answering Questions about your DBA\, EIN\, Business Licenses and Selling Permits.
DESCRIPTION:We answer all your questions to register your business. Join us for a conversation on what is best for the type of business you want to start or to bring current your operations.
URL:https://www.new-wbc.org/event/licenses-and-permits-dba-vs-llc-10-2-2-2-3-2-2-2-2-2-2-2-2-2/?lang=es
LOCATION:Webinar
CATEGORIES:General Business Courses
ATTACH;FMTTYPE=image/png:https://www.new-wbc.org/wp-content/uploads/2023/07/image_EE05E748-6C45-45E5-8E69-D4A8B22C89DC.png
END:VEVENT
BEGIN:VEVENT
DTSTART;TZID=America/Los_Angeles:20250311T160000
DTEND;TZID=America/Los_Angeles:20250311T180000
DTSTAMP:20260420T053529
CREATED:20250219T215649Z
LAST-MODIFIED:20250219T215649Z
UID:33039-1741708800-1741716000@www.new-wbc.org
SUMMARY:Register to Protect -Trademarks\, Copyrights\, & Patents
DESCRIPTION:Learning about intellectual property is essential for small businesses to protect their ideas. Inventors you need a patent and/or a trademark. Join us and learn the steps to protect your business.
URL:https://www.new-wbc.org/event/register-to-protect-trademarks-copyrights-patents-2/?lang=es
LOCATION:Webinar
CATEGORIES:General Business Courses
ATTACH;FMTTYPE=image/png:https://www.new-wbc.org/wp-content/uploads/2023/08/Register-to-Protect-Trademarks-Copyrights-Patents.png
END:VEVENT
BEGIN:VEVENT
DTSTART;TZID=America/Los_Angeles:20250311T160000
DTEND;TZID=America/Los_Angeles:20250311T180000
DTSTAMP:20260420T053529
CREATED:20250220T212917Z
LAST-MODIFIED:20250220T212917Z
UID:33056-1741708800-1741716000@www.new-wbc.org
SUMMARY:Identify and Focus on the Right Customers
DESCRIPTION:How do I divide my clients into segments? Do you have the right clients? You will be able to review if your products and services are reaching all your potential for the clients you have or you will need different clients to reach your sale goals. Join us for an eye-opening session.
URL:https://www.new-wbc.org/event/identify-and-focus-on-the-right-customers-2/?lang=es
LOCATION:Webinar
CATEGORIES:General Business Courses
ATTACH;FMTTYPE=image/png:https://www.new-wbc.org/wp-content/uploads/2025/01/Identify-and-Focus-on-the-Right-Customers.png
END:VEVENT
BEGIN:VEVENT
DTSTART;TZID=America/Los_Angeles:20250311T180000
DTEND;TZID=America/Los_Angeles:20250311T200000
DTSTAMP:20260420T053529
CREATED:20250220T175524Z
LAST-MODIFIED:20250224T183853Z
UID:33050-1741716000-1741723200@www.new-wbc.org
SUMMARY:Choosing the Right Business Structure: Sole Pro\, GP\, LP\, LLP\, LLC\, S-Corp\, and C-Corp
DESCRIPTION:In this concise webinar\, we’ll break down the key business structures Sole Proprietor\, GP\, LP\, LLP\, LLC\, S-Corp\, and C-Corp. Learn about tax obligations\, asset protection\, registration\, and how each structure impacts your business decisions. Gain the insights you need to make an informed choice and protect your business for the long term.
URL:https://www.new-wbc.org/event/choosing-the-right-business-structure-sole-pro-gp-lp-llp-llc-s-corp-and-c-corp-2/?lang=es
LOCATION:Webinar
CATEGORIES:General Business Courses
ATTACH;FMTTYPE=image/jpeg:https://www.new-wbc.org/wp-content/uploads/2025/01/teamwork-3213924_1280-scaled.jpg
END:VEVENT
BEGIN:VEVENT
DTSTART;TZID=America/Los_Angeles:20250312T100000
DTEND;TZID=America/Los_Angeles:20250312T120000
DTSTAMP:20260420T053529
CREATED:20250218T225807Z
LAST-MODIFIED:20250218T225807Z
UID:33033-1741773600-1741780800@www.new-wbc.org
SUMMARY:The Change Advantage- Mastering Agility and Adaptation in the Business World
DESCRIPTION:In today’s rapidly changing business environment\, mastering change is crucial for success. This class equips professionals with essential strategies to effectively navigate and leverage change. Participants will learn to understand the dynamics driving change\, develop adaptability\, and implement effective change management techniques. The course focuses on fostering a change-ready culture\, enhancing leadership capabilities\, and utilizing practical tools for real-world applications. This course provides the skills needed to turn change into a competitive advantage\, driving growth and innovation to your business. \n 
URL:https://www.new-wbc.org/event/the-change-advantage-mastering-agility-and-adaptation-in-the-business-world-2-2-2/?lang=es
LOCATION:Webinar
CATEGORIES:General Business Courses
ATTACH;FMTTYPE=image/png:https://www.new-wbc.org/wp-content/uploads/2024/08/larry.png
END:VEVENT
BEGIN:VEVENT
DTSTART;TZID=America/Los_Angeles:20250312T140000
DTEND;TZID=America/Los_Angeles:20250312T150000
DTSTAMP:20260420T053529
CREATED:20250219T235007Z
LAST-MODIFIED:20250219T235007Z
UID:33043-1741788000-1741791600@www.new-wbc.org
SUMMARY:VERIZON Small Business Digital Ready Program
DESCRIPTION:As we continue our partnership with Verizon and LISC to spread the word about an exciting FREE program for small businesses—the Verizon Small Business Digital Ready program. It’ll teach you strategies other businesses are using to get ahead. And you’ll learn how to be more digitally savvy. Small Business Digital Ready provides personalized content\, coaching\, networking and more\, and all the online tools are in one place\, so it’s easy to use. Sign up and find out more!
URL:https://www.new-wbc.org/event/verizon-small-business-digital-ready-program-2/?lang=es
LOCATION:Webinar
CATEGORIES:General Business Courses
ATTACH;FMTTYPE=image/png:https://www.new-wbc.org/wp-content/uploads/2025/01/image_E958151B-DBB1-421F-93B3-DEB5C48FD78C.png
END:VEVENT
BEGIN:VEVENT
DTSTART;TZID=America/Los_Angeles:20250313T160000
DTEND;TZID=America/Los_Angeles:20250313T180000
DTSTAMP:20260420T053529
CREATED:20250220T193831Z
LAST-MODIFIED:20250220T193831Z
UID:33054-1741881600-1741888800@www.new-wbc.org
SUMMARY:Select the Ideal Partners and Decide the Terms
DESCRIPTION:Select partners and decide terms. Let’s talk about selecting and planning business partnerships\, including choosing suppliers and partners\, deciding which type of alliances to enter with them\, and on what terms.
URL:https://www.new-wbc.org/event/select-the-ideal-partners-and-decide-the-terms-11-2-2-2/?lang=es
LOCATION:Webinar
CATEGORIES:General Business Courses
ATTACH;FMTTYPE=image/png:https://www.new-wbc.org/wp-content/uploads/2023/08/image_F6399389-BAB6-432B-9B93-18963DF7B685.png
END:VEVENT
BEGIN:VEVENT
DTSTART;TZID=America/Los_Angeles:20250318T160000
DTEND;TZID=America/Los_Angeles:20250318T180000
DTSTAMP:20260420T053529
CREATED:20250219T212917Z
LAST-MODIFIED:20250219T212917Z
UID:33037-1742313600-1742320800@www.new-wbc.org
SUMMARY:Create a Strong and Authentic Brand for your Business
DESCRIPTION:Define and build up your company brand. Let’s focus on improving customer loyalty by defining your brand and creating authenticity to it by identifying brand role models and deciding which certifications to get\, all the while protecting your trademark.
URL:https://www.new-wbc.org/event/create-a-strong-and-authentic-brand-for-your-business-4-2/?lang=es
LOCATION:Webinar
CATEGORIES:General Business Courses
ATTACH;FMTTYPE=image/png:https://www.new-wbc.org/wp-content/uploads/2025/01/Create-a-Strong-and-Authentic-Brand-for-your-Business.png
END:VEVENT
BEGIN:VEVENT
DTSTART;TZID=America/Los_Angeles:20250320T100000
DTEND;TZID=America/Los_Angeles:20250320T120000
DTSTAMP:20260420T053529
CREATED:20250218T223217Z
LAST-MODIFIED:20250218T223217Z
UID:33031-1742464800-1742472000@www.new-wbc.org
SUMMARY:Government Procurement
DESCRIPTION:What exactly is procurement? Procurement is the process of purchasing goods or services. Procurement expenses can fall into several different categories\, depending on the procurement demand. Competitive bidding is usually a part of most large-scale procurement processes involving multiple bidders. In this webinar\, we will be talking about procurement needs from the government. You want to sell to the government this is your first step. Join us for a free class.
URL:https://www.new-wbc.org/event/government-procurement-5-2-2-2/?lang=es
LOCATION:Webinar
CATEGORIES:General Business Courses
ATTACH;FMTTYPE=image/png:https://www.new-wbc.org/wp-content/uploads/2024/08/Government-Procurement.png
END:VEVENT
BEGIN:VEVENT
DTSTART;TZID=America/Los_Angeles:20250325T160000
DTEND;TZID=America/Los_Angeles:20250325T180000
DTSTAMP:20260420T053529
CREATED:20250219T232111Z
LAST-MODIFIED:20250219T232111Z
UID:33041-1742918400-1742925600@www.new-wbc.org
SUMMARY:Get on Top of the Legal Requirements to Your Business
DESCRIPTION:Defining legal requirements for small business. We will focus Area on defining required legal documents\, selecting a legal structure for the company\, renegotiating contracts\, and ensuring corporate compliance with laws and regulations\, as well as the company’s intellectual property.
URL:https://www.new-wbc.org/event/get-on-top-of-the-legal-requirements-to-your-business-15-2-2-2-2-2-2-2-2-2/?lang=es
LOCATION:Webinar
CATEGORIES:General Business Courses
ATTACH;FMTTYPE=image/png:https://www.new-wbc.org/wp-content/uploads/2023/08/Screenshot-376.png
END:VEVENT
BEGIN:VEVENT
DTSTART;TZID=America/Los_Angeles:20250325T180000
DTEND;TZID=America/Los_Angeles:20250325T200000
DTSTAMP:20260420T053529
CREATED:20250220T000726Z
LAST-MODIFIED:20250220T000726Z
UID:33046-1742925600-1742932800@www.new-wbc.org
SUMMARY:How to Apply for WOB\, MOB\, and SBO Certifications in LA County
DESCRIPTION:Learn how to apply for Women-Owned (WOB)\, Minority-Owned (MOB)\, and Small Business Owner (SBO) certifications in LA County. This webinar covers eligibility\, the application process\, and key tips to help your business qualify for county contracts and resources.
URL:https://www.new-wbc.org/event/how-to-apply-for-wob-mob-and-sbo-certifications-in-la-county-2/?lang=es
LOCATION:Webinar
CATEGORIES:General Business Courses
ATTACH;FMTTYPE=image/png:https://www.new-wbc.org/wp-content/uploads/2025/02/image_DEB38B79-14B4-431E-B0DF-99FD71EC547C.png
END:VEVENT
BEGIN:VEVENT
DTSTART;TZID=America/Los_Angeles:20250325T190000
DTEND;TZID=America/Los_Angeles:20250325T210000
DTSTAMP:20260420T053529
CREATED:20250227T062809Z
LAST-MODIFIED:20250227T064140Z
UID:33098-1742929200-1742936400@www.new-wbc.org
SUMMARY:GC | Taxing Matters: Navigating the 1040 and the Small Business Tax System
DESCRIPTION:In this webinar\, we’ll simplify the complex world of taxes for small businesses. From understanding your 1040 form to grasping how tax brackets affect your income\, we’ll break it down in a way that makes sense. Learn how tax credits\, deductions\, and refundable credits can impact your bottom line\, and walk away with a clear understanding of how to navigate the tax system with confidence.
URL:https://www.new-wbc.org/event/gc-taxing-matters-navigating-the-1040-and-the-small-business-tax-system/?lang=es
CATEGORIES:General Business Courses
ATTACH;FMTTYPE=image/jpeg:https://www.new-wbc.org/wp-content/uploads/2025/02/Neutral-Minimal-Simple-Elegant-Quote-Instagram-Post-13.jpg
END:VEVENT
BEGIN:VEVENT
DTSTART;TZID=America/Los_Angeles:20250326T110000
DTEND;TZID=America/Los_Angeles:20250326T130000
DTSTAMP:20260420T053529
CREATED:20250203T172801Z
LAST-MODIFIED:20250203T172801Z
UID:32780-1742986800-1742994000@www.new-wbc.org
SUMMARY:Corporation vs LLC
DESCRIPTION:The ownership structure that’s right for your business depends on how many people will own the business\, how the business will be run\, what types of services and products you will provide and certain tax considerations
URL:https://www.new-wbc.org/event/corporation-vs-llc-3/?lang=es
LOCATION:Webinar
CATEGORIES:General Business Courses
ATTACH;FMTTYPE=image/png:https://www.new-wbc.org/wp-content/uploads/2023/03/Corporation-vs-LLc.png
END:VEVENT
BEGIN:VEVENT
DTSTART;TZID=America/Los_Angeles:20250327T190000
DTEND;TZID=America/Los_Angeles:20250327T210000
DTSTAMP:20260420T053529
CREATED:20250227T072835Z
LAST-MODIFIED:20250227T072835Z
UID:33106-1743102000-1743109200@www.new-wbc.org
SUMMARY:GC | Deductions Demystified: Unlocking Business Savings
DESCRIPTION:Learn the secrets to maximizing business deductions and saving money on your taxes! This session will guide you through the essential business deductions every entrepreneur should know\, helping you keep more of your hard-earned money. From operational expenses to hidden deductions\, we’ll show you how to reduce your taxable income and ensure your business stays financially healthy. \n\n\n 
URL:https://www.new-wbc.org/event/gc-deductions-demystified-unlocking-business-savings/?lang=es
CATEGORIES:General Business Courses
ATTACH;FMTTYPE=image/jpeg:https://www.new-wbc.org/wp-content/uploads/2025/02/Neutral-Minimal-Simple-Elegant-Quote-Instagram-Post-14.jpg
END:VEVENT
BEGIN:VEVENT
DTSTART;TZID=America/Los_Angeles:20250328T110000
DTEND;TZID=America/Los_Angeles:20250328T120000
DTSTAMP:20260420T053529
CREATED:20250218T192719Z
LAST-MODIFIED:20250324T234652Z
UID:33029-1743159600-1743163200@www.new-wbc.org
SUMMARY:Licenses and Permits - Answering Questions about your DBA\, EIN\, Business Licenses and Selling Permits.
DESCRIPTION:We answer all your questions to register your business. Join us for a conversation on what is best for the type of business you want to start or to bring current your operations.
URL:https://www.new-wbc.org/event/licenses-and-permits-dba-vs-llc-10-2-2-2-3-2-2-2-2-2-2-2-2-2-2/?lang=es
LOCATION:Webinar
CATEGORIES:General Business Courses
ATTACH;FMTTYPE=image/png:https://www.new-wbc.org/wp-content/uploads/2023/07/image_EE05E748-6C45-45E5-8E69-D4A8B22C89DC.png
END:VEVENT
END:VCALENDAR