BEGIN:VCALENDAR
VERSION:2.0
PRODID:-//NEW Women&#039;s Business Center - ECPv6.15.17//NONSGML v1.0//EN
CALSCALE:GREGORIAN
METHOD:PUBLISH
X-WR-CALNAME:NEW Women&#039;s Business Center
X-ORIGINAL-URL:https://www.new-wbc.org
X-WR-CALDESC:Events for NEW Women&#039;s Business Center
REFRESH-INTERVAL;VALUE=DURATION:PT1H
X-Robots-Tag:noindex
X-PUBLISHED-TTL:PT1H
BEGIN:VTIMEZONE
TZID:America/Los_Angeles
BEGIN:DAYLIGHT
TZOFFSETFROM:-0800
TZOFFSETTO:-0700
TZNAME:PDT
DTSTART:20250309T100000
END:DAYLIGHT
BEGIN:STANDARD
TZOFFSETFROM:-0700
TZOFFSETTO:-0800
TZNAME:PST
DTSTART:20251102T090000
END:STANDARD
BEGIN:DAYLIGHT
TZOFFSETFROM:-0800
TZOFFSETTO:-0700
TZNAME:PDT
DTSTART:20260308T100000
END:DAYLIGHT
BEGIN:STANDARD
TZOFFSETFROM:-0700
TZOFFSETTO:-0800
TZNAME:PST
DTSTART:20261101T090000
END:STANDARD
BEGIN:DAYLIGHT
TZOFFSETFROM:-0800
TZOFFSETTO:-0700
TZNAME:PDT
DTSTART:20270314T100000
END:DAYLIGHT
BEGIN:STANDARD
TZOFFSETFROM:-0700
TZOFFSETTO:-0800
TZNAME:PST
DTSTART:20271107T090000
END:STANDARD
END:VTIMEZONE
BEGIN:VEVENT
DTSTART;TZID=America/Los_Angeles:20260518T163000
DTEND;TZID=America/Los_Angeles:20260518T183000
DTSTAMP:20260421T081048
CREATED:20260416T233648Z
LAST-MODIFIED:20260416T233648Z
UID:37196-1779121800-1779129000@www.new-wbc.org
SUMMARY:Crecimiento y retención de clientes para negocios de limpieza
DESCRIPTION:Para que una compañía crezca de manera exitosa\, no es suficiente invertir en captar nuevos clientes. Los clientes actuales deben estar satisfechos para que\, de esa manera\, sigan comprando más y recomienden tu negocio a otras personas.
URL:https://www.new-wbc.org/event/crecimiento-y-retencion-de-clientes-para-negocios-de-limpieza-6-2-2-2-2-2/
CATEGORIES:BizEspañol
END:VEVENT
END:VCALENDAR